BEGIN:VCALENDAR
VERSION:2.0
PRODID:https://github.com/derhansen/sf_event_mgt
METHOD:PUBLISH
BEGIN:VEVENT
UID:65-737@www.asienhaus.de
CLASS: PUBLIC
SUMMARY:25 Jahre Kölner Kette - 25 Jahre Einsatz für Faire Entschuldung
DESCRIPTION: \n\nAktionstag am 18. Juni 2024 am Kölner Dom\n\n1999 bildeten
  rund 35.000 Menschen anlässlich des G8-Gipfels eine Menschenkette rund um 
 die Kölner Innenstadt. Sie forderten die Streichung der Schulden der Länder
  im Globalen Süden. Mit Erfolg! Doch der damalige Schuldenerlass ging nicht
  mit nachhaltigen Reformen einher. Heute ist der Einsatz für faire Entschul
 dung angesichts der weltweiten Schuldenkrise dringender denn je.\n\nDenn ge
 nau wie damals bedroht auch heute die globale Schuldenkrise das Leben von M
 illionen von Menschen. Und die Bundesregierung? Die tut bislang trotz Versp
 rechungen im Koalitionsvertrag viel zu wenig dagegen. \n\nDeshalb sollen di
 e Aktionspostkarten aus unserer aktuellen Kampagne "Mit Schulden fair verfa
 hren!" bei der Aktion eine zentrale Rolle spielen – und natürlich ihr als T
 eil der „neuen Kölner Kette“!\n\nAuf dem Programm stehen eine Kundgebung mi
 t Bühnenprogramm, eine Menschenkette und eine Abendveranstaltung mit promin
 enter Besetzung im DOMFORUM.\n\nWeitere Informationen zum Programm: https:/
 /erlassjahr.de/termin/aktionstag-25-jahre-koelner-kette/\n\n\n\nMitveransta
 ltet vom philippinenbüro e.V.
LOCATION:Domforum Köln
DTSTAMP:20240607T100446Z
DTSTART:20240618T143000Z
DTEND:20240618T190000Z
END:VEVENT
END:VCALENDAR