BEGIN:VCALENDAR
VERSION:2.0
PRODID:https://github.com/derhansen/sf_event_mgt
METHOD:PUBLISH
BEGIN:VEVENT
UID:92-737@www.asienhaus.de
CLASS: PUBLIC
SUMMARY:8. Gedenktag an den Rohingya-Genozid
DESCRIPTION:Am 25. August 2025 begehen wir in Berlin den 8. Jahrestag des G
 edenktags zum Völkermord an den Rohingya.  Wir laden Sie herzlich ein, geme
 insam mit uns der Opfer zu gedenken und die Geschichten der Überlebenden zu
  hören. Die Veranstaltung umfasst eine Podiumsdiskussion mit Vertreter:inne
 n der Rohingya-Gemeinschaft und Menschenrechtsaktivist:innen.\n\nIm Anschlu
 ss an die Vorträge und Gespräche wird etwas gemeinsam gegessen und Raum für
  direkten Austausch geboten.\n\nEs wird auch eine kleine Fotoausstellung vo
 r Ort sein.
LOCATION:VKU-Forum
DTSTAMP:20250819T100254Z
DTSTART:20250825T090000Z
DTEND:20250825T110000Z
END:VEVENT
END:VCALENDAR