BEGIN:VCALENDAR
VERSION:2.0
PRODID:https://github.com/derhansen/sf_event_mgt
METHOD:PUBLISH
BEGIN:VEVENT
UID:31-737@www.asienhaus.de
CLASS: PUBLIC
SUMMARY:AMP Menschenrechtsbericht 2022 - Launch
DESCRIPTION:Anlässlich des diesjährigen Menschenrechtstages am 10. Dezember
  veröffentlicht das Aktionsbündnis Menschenrechte-Philippinen (AMP) seinen 
 vierten Bericht „Menschenrechte in den Philippinen".\n\nDer Bericht beschre
 ibt die Muster der Menschenrechtsverletzungen unter der Regierung des ehema
 ligen Präsidenten Duterte im Zeitraum zwischen 2019 und 2022. Er zeigt den 
 blutigen "Krieg gegen die Drogen" sowie die Repression gegen Menschenrechts
 aktivist:innen, die politische Opposition, indigene Gruppen und unabhängige
  Medien auf. Die neue Regierung unter Präsident Marcos Jr. hat es bisher ve
 rsäumt, die Menschenrechtsverletzungen unter der Duterte Administration anz
 uerkennen und die Täter:innen zur Rechenschaft zu ziehen.\n\nAus diesem Anl
 ass lädt das AMP zum Online-Launch via Zoom am 7. Dezember 2022 von 13 bis 
 14 Uhr ein. Das AMP wird darin die wichtigsten Inhalte des Berichts präsent
 ieren, gefolgt von einer Diskussion, die Raum für Fragen und Antworten biet
 et. Die Veranstaltung findet außschließlich in englischer Sprache statt.\n\
 nFür die Anmeldung senden Sie bitte eine E-Mail an info@amp.ngo mit dem Bet
 reff „Registration: AMP Report Launch".\n\n \n\n \n\nIn this year’s commemo
 ration of Human Rights Day on December 10, the Aktionsbündnis Menschenrecht
 e-Philippinen (AMP) publishes its fourth report “Human Rights in the Philip
 pines”.\n\nThe report describes the pattern of human rights violations duri
 ng former President Duterte's administration in the period between 2019 and
  2022. It highlights the bloody "war on drugs" as well as the repression ag
 ainst human rights activists, the political opposition, indigenous peoples,
  and independent media. To date, the new government under President Marcos 
 Jr. has failed to acknowledge the human rights violations committed under t
 he Duterte administration and to hold perpetrators accountable.\n\nOn this 
 occasion, the AMP would like to invite you to its online launch via Zoom on
  December 7, 2022, from 1 to 2 pm CEST. At the report launch, the AMP will 
 present the key content of the report, followed by a discussion that gives 
 room for questions and answers.\n\nFor registration, please send an Email t
 o info@amp.ngo, stating “Registration: AMP Report Launch” as subject.
LOCATION:Stiftung Asienhaus und Online
DTSTAMP:20221122T085742Z
DTSTART:20221207T120000Z
DTEND:20221207T130000Z
END:VEVENT
END:VCALENDAR