BEGIN:VCALENDAR
VERSION:2.0
PRODID:https://github.com/derhansen/sf_event_mgt
METHOD:PUBLISH
BEGIN:VEVENT
UID:27-737@www.asienhaus.de
CLASS: PUBLIC
SUMMARY:Artistic Perspectives on Human Rights and Impunity in Indonesia
DESCRIPTION:Die Bedeutung und Möglichkeiten von engagierter Kunst in der Au
 farbeitung und Erinnerung von Menschenrechtsverletzungen wird wenig diskuti
 ert, wie auch der Beitrag von Kunst zur Überwindung von Straflosigkeit.\n\n
 In Indonesien sind zahlreiche schwere Menschenrechtsverletzungen der Vergan
 genheit bis heute ungesühnt. Am 30. September jährt sich der angebliche Put
 schversuch, der sich 1965 in Indonesien ereignete und für den Kommunist:inn
 en verantwortlich gemacht wurden. Es folgten antikommunistische Massenmorde
  (1965-66) durch das indonesische Militärregime unter General Suharto, bei 
 denen zwischen 500.000 und drei Millionen Menschen getötet wurden. Während 
 Opfer und Überlebende um Anerkennung und Wiedergutmachung ringen, bleiben d
 ie Täter:innen straflos. Seitdem folgten viele weitere Menschenrechtsverlet
 zungen und Straflosigkeit beschmutzt die Menschenrechtsbilanz Indonesiens, 
 während gleichzeitig über die letzten Jahre der Handlungsspielraum von Mens
 chenrechtsverteidiger:innen stetig schrumpft. Wie wirken sich Menschenrecht
 sverletzungen der Vergangenheit in Indonesien auf den Einzelnen und die Ges
 ellschaft heute aus? Wie beeinflussen ungesühnte Menschenrechtsverletzungen
  die Zivilgesellschaft? Was bedeutet dies für die Kunstfreiheit?\n\nDarüber
  möchten wir gemeinsam mit Künstler:innen, Menschenrechtsexpert:innen und Z
 eitzeugen diskutieren. Die Veranstaltung beginnt mit einer Tanz-Performance
  und einem anschließenden Zeitzeugengespräch ehe die Podiumsdiskussion eröf
 fnet wird.\n\nPodiumsdiskussion mit Andreas Harsono (Human Rights Watch), E
 lsa Clavé (Universität Hamburg) und Rianto (Lengger-Tänzer und Choreograph)
 , Moderation: Camilla Kussl (Watch Indonesia!)\n\nGenjer-Genjer Tanzperform
 ance: N.N.\n\nZeitzeugengespräch: Sri Tunruang (IPT 1965) spricht mit Dr. W
 illy R. Wirantaprawira (Überlebender der Massaker 1965/66).\n\nDie Veransta
 ltung findet auf Englisch statt, bei Bedarf gibt es Flüsterübersetzung ins 
 Deutsche und Indonesische.\n\nIm Anschluss laden wir zu einem kleinen Get-T
 ogether ein, damit auch genügend Zeit für anknüpfende Gespräche und informe
 llen Austausch bleibt.\n\nCorona-Hinweis: Gegebenenfalls werden Maßnahmen a
 n die aktuelle Lage der Pandemie angepasst. Bitte denken Sie an eine Maske.
 \n\nEine gemeinsame Veranstaltung von Watch Indonesia!, International Peopl
 e's Tribunal 1965 (IPT 1965) und der Stiftung Asienhaus. Dei Veranstaltung 
 findet im Berlin Global Village in Berlin-Neukölln statt. (Adresse: Am Sudh
 aus 2, 12053 Berlin,  https://www.berlin-global-village.de/)   Artistic Per
 spectives on Human Rights and Impunity in Indonesia\n\nHow can art be a par
 t of addressing human rights violations of the past? Activist and engaged a
 rt can help remembering and processing human rights violations. The role ar
 t can play in overcoming impunity is little discussed. In Indonesia many se
 vere human rights violations of the past remain unpunished to this day. 30 
 September marks the anniversary of the alleged coup attempt that took place
  in Indonesia in 1965 and for which communists were blamed. This was follow
 ed by mass anti-communist killings (1965-66) by the Indonesian military reg
 ime under General Suharto, in which between 500,000 and three million peopl
 e were killed. While victims and survivors struggle for recognition and rep
 arations, the perpetrators go unpunished. While victims and survivors strug
 gle for recognition and reparations, the perpetrators suffered no consequen
 ces. Many more human rights violations have followed. Impunity and the shri
 nking civil spaces pose a very serious issue for human rights defenders. We
  would like to discuss this together with artists, human rights experts and
  contemporary witnesses. \n\nThe event will start with a dance performance,
  followed by a discussion with a survivor of the massacres of 19765/66. We 
 will finish with a panel discussion featuring artists and human rights expe
 rts.\n\nParticipants of the panel discussion: Andreas Harsono (Human Rights
  Watch), Elsa Clavé (University of Hamburg) and Rianto (lengger dancer and 
 choreographer), Moderation: Camilla Kussl (Watch Indonesia!).\n\nGenjer-Gen
 jer dance performance: N.N.\n\nSri Tunruang (IPT 1965) will talk with Dr. W
 illy R. Wirantaprawira (survivor of the 1965/66 massacres).\n\nThe event wi
 ll be held in English; German and Indonesian translation can be provided.\n
 \nNote on COVID-19: We may adjust precautions due to the current pandemic s
 ituation. Please bring a mask.\n\nA joint event by Watch Indonesia!, Intern
 ational People's Tribunal 1965 (IPT 1965) and Stiftung Asienhaus.
LOCATION:Berlin Global Village
DTSTAMP:20220907T115309Z
DTSTART:20220914T163000Z
DTEND:20220914T190000Z
END:VEVENT
END:VCALENDAR