BEGIN:VCALENDAR
VERSION:2.0
PRODID:https://github.com/derhansen/sf_event_mgt
METHOD:PUBLISH
BEGIN:VEVENT
UID:81-737@www.asienhaus.de
CLASS: PUBLIC
SUMMARY:Ausstellung: Die Dritte Welt im Zweiten Weltkrieg
DESCRIPTION:Am 7. März 2025 eröffnet das NS-Dokumentationszentrum Köln eine
  aktualisierte und erweiterte Version der Ausstellung „Die Dritte Welt im Z
 weiten Weltkrieg“. Die Ausstellung beleuchtet die gravierenden Auswirkungen
  des Krieges auf Kolonien und Länder der Dritten Welt, die oft als Schlacht
 felder dienten und nach Kriegsende verwüstet und vermint zurückblieben.\n\n
 Das Projekt basiert auf jahrzehntelangen Recherchen in über 30 Ländern und 
 thematisiert die Rekrutierung von Kolonialsoldaten, sexualisierte Gewalt, s
 owie das Leid und die Kollaboration in den Kolonien. Zahlreiche interaktive
  Elemente, darunter Zeitzeugenberichte, Videostationen und künstlerische Re
 flexionen aus Afrika, Asien und Ozeanien, laden die Besucher:innen zu einem
  Perspektivwechsel ein.\n\nBegleitet wird die Ausstellung von einem vielfäl
 tigen Programm mit Vorträgen, Lesungen, Theater, Musik und Performances int
 ernationaler Gäste. Ziel ist es, die eurozentrische Geschichtsschreibung au
 fzubrechen und den globalen Kontext des Zweiten Weltkriegs in den Fokus zu 
 rücken.\n\nIn Kooperation mit dem NS-Dokumentationszentrum der Stadt Köln g
 estalten die Stiftung Asienhaus, der Korea Verband sowie das phillipinenbür
 o insbesondere die folgenden drei Veranstaltungen aktiv mit:\n\nEnthüllung 
 Trostfrauen Skulptur\n\nWeitere Informationen erhalten Sie hier \n\nFilme: 
 Comfort Women Fighting For Dignity & Because We Were Beautiful\n\nWeitere I
 nformationen erhalten Sie hier\n\nVortrag: Frauen im antijapanischen und an
 tikolonialen Widerstand\n\nWeitere Informationen erhalten Sie hier
LOCATION:NS-Dok
DTSTAMP:20250220T104525Z
DTSTART:20250308T090000Z
DTEND:20250601T200000Z
END:VEVENT
END:VCALENDAR