BEGIN:VCALENDAR
VERSION:2.0
PRODID:https://github.com/derhansen/sf_event_mgt
METHOD:PUBLISH
BEGIN:VEVENT
UID:57-737@www.asienhaus.de
CLASS: PUBLIC
SUMMARY:Filmvorführung: Before, Now & Then (Nana)
DESCRIPTION:(Spielfilm, Indonesien, 2022, Regie: Kamila Andini, 103 Minuten
 , Sundanesisch mit deutschen Untertiteln)\n\nNanas Mann ist in den politisc
 hen Wirren der 1960er Jahre verschollen und wird für tot erklärt. Sie finde
 t Zuflucht bei einem reichen Sundanesen, doch nachts holen sie die Erinneru
 ngen ein. Sie entdeckt außerdem eine Affäre ihres Mannes mit der Fleischeri
 n Ino. Durch die letztlich heilsame Begegnung mit der jungen Rivalin geling
 t es ihr, sich aus dem engen bürgerlichen Korsett zu befreien.\n\nKamila A
 ndini betrachtet die Emanzipation der Frau in diesem berauschenden Film im 
 Spiegel der Geschichte auf mehreren Zeitebenen, basierend auf dem Roman „Ja
 is Darga Namaku“ von Ahda Imran.\n\nDas Berlinale-Highlight wurde 2022 mit 
 einem Silbernen Bären für die Beste Nebendarstellerin ausgezeichnet.\n\nDie
  Filmaufführung ist eine Kooperation der Stiftung Asienhaus, der Deutsch-In
 donesischen Gesellschaft Köln und dem IPT 1965 mit dem Allerweltskino Köln.
 \n\nDer Eintritt kostet 6 Euro.\n\nTrailer: Before, Now & Then (Nana):\n\n
LOCATION:OFF Broadway
DTSTAMP:20231018T174730Z
DTSTART:20231121T190000Z
DTEND:20231121T213000Z
END:VEVENT
END:VCALENDAR