BEGIN:VCALENDAR
VERSION:2.0
PRODID:https://github.com/derhansen/sf_event_mgt
METHOD:PUBLISH
BEGIN:VEVENT
UID:89-737@www.asienhaus.de
CLASS: PUBLIC
SUMMARY:Brennpunkt Menschenrechte: Myanmar
DESCRIPTION:Zwischen Wiederaufbau und Militärherrschaft\n\nIn der gemeinsam
  mit der Friedrich Naumann Stiftung ausgerichteten Veranstaltung wollen wir
  uns die Situation in Myanmar anschauen. Die humanitäre Lage im Land hat si
 ch nach dem Erdbeben vom März 2025 noch weiter verschärft: Nicht nur forder
 te dieses Ereignis tausende Leben und stürzte unzählige Menschen in akute N
 ot, auch stellte es den jahrzentelangen Kampf für Demokratie und Menschenre
 chte auf eine harte Probe. Das Militärregime verhindert nicht nur weitgehen
 d die Arbeit von Hilfsorganisationen, auch setzt es seine Angriffe auf die 
 eigene Bevölkerung fort. Dabei wird die Führung des Landes zunehmend von Ch
 ina und Russland unterstützt. Doch gibt es für eine demokratische Zukunft d
 es Landes auch Hoffnung? Wie wirkten sich die Folgen des Erdbebens auf die 
 Machtverhältnisse aus – bringen sie Veränderungen oder festigen sie das Reg
 ime? Was kann die internationale Gemeinschaft auch im kontext globaler Syst
 emauseinandersetzungen tun?  \n\nIm Panel sind Nyein Chan May und Majid Len
 z, moderiert wird die Veranstaltung von Martin Hoeck und Benjamin Brandstet
 ter eröffnet die Veranstaltung.\n\nHier anmelden
LOCATION:Online-Event
DTSTAMP:20250708T133327Z
DTSTART:20250729T170000Z
DTEND:20250729T180000Z
END:VEVENT
END:VCALENDAR