BEGIN:VCALENDAR
VERSION:2.0
PRODID:https://github.com/derhansen/sf_event_mgt
METHOD:PUBLISH
BEGIN:VEVENT
UID:77-737@www.asienhaus.de
CLASS: PUBLIC
SUMMARY:China-Tag 2024 der Stadt Köln
DESCRIPTION:Die Stadt Köln lädt ein zu einem bunten Programm von Diskussion
 en, Vorträgen, Kultur, Musik, einem Familienprogramm und vielem mehr. Dabei
  stehen unter anderem die Städtepartnerschaft mit Peking und die Situation 
 von Frauen im Fokus. Ebenso dargeboten werden chinesische Musik und Kultur.
  Spaß und Spannung warten auf Kinder und junggebliebene Erwachsene bei viel
 seitigen Mitmach-Aktionen, wie zum Beispiel Kung-Fu-Workshops und das Baste
 ln von traditionellen Laternen im Space4Kids.\n\nErleben Sie China in Köln 
 am Sonntag, 8. Dezember 2024 von 11 bis 19 Uhr im Rautenstrauch-Joest-Museu
 m und FORUM Volkshochschule am Neumarkt, Cäcilienstraße 29-33, 50667 Köln. 
  \n\nOberbürgermeisterin Henriette Reker wird um 11 Uhr den China-Tag eröff
 nen. Ebenso werden die stellvertretende Generalkonsulin Frau Ying HUAN vom 
 Chinesischen Generalkonsulat in Düsseldorf und Düsseldorfs Bürgermeister Jo
 sef Hinkel das Publikum begrüßen.\n\n\n\nIm Rahmen der Veranstaltung wird J
 oanna Klabisch, Referentin im China-Programm der Stiftung Asienhaus, eine D
 iskussion zu folgendem Thema moderieren:\n\n\n\n"Die Hälfte des Himmels stü
 tzen oder an die gläserne Decke stoßen. Perspektiven von Frauen in der Arbe
 itswelt aus China und Deutschland"\n\nInhalt: Zahlreiche Entwicklungen in C
 hina haben zu einer Annäherung zwischen Frauen und Männern in den Bereichen
  Bildung, Gesundheit und Arbeitsmarktpartizipation beigetragen. Wer weiß zu
 m Beispiel, dass zwei Drittel der Millionärinnen weltweit Chinesinnen sind?
  Dennoch zeigen die letzten Jahre, dass Frauen in China – wie auch in Deuts
 chland und vielen anderen Ländern – in Krisensituationen besonders stark be
 troffen sind, sei es durch die COVID-19-Pandemie, eine schwächelnde globale
  Wirtschaft oder das Dilemma alternder Gesellschaften. Die Gleichstellung v
 on Frauen in der Arbeitswelt, sichtbar im Gender-Pay-Gap, oder der stagnier
 enden Zahl von Frauen in Führungspositionen, bleibt eine globale Herausford
 erung, der wir uns stellen müssen.  \n\nGemeinsam mit Panelistinnen aus ver
 schiedenen akademischen Disziplinen und Expertinnen für Gleichstellung in I
 nstitutionen und Kommunen wird über Fortschritte und bestehende Herausforde
 rungen diskutiert. Es werden Handlungsoptionen aus Europa und China beleuch
 tet und dazu eingeladen, über die Chancen und Möglichkeiten von Städtepartn
 erschaften zu reflektieren, um Begegnungs- und Austauschorte zu schaffen – 
 besonders für Frauen.\n\nTeilnehmende: \n\n 	Dr. Xinping Li, Wissenschaftli
 che Mitarbeiterin, Max-Planck-Institut Köln 	Dr. Sisi Sung, Wirtschaftswiss
 enschaftlerin und Dozentin der Universität Dundee, Schottland 	Julia Peders
 en, Gleichstellungsbeauftragte Stadt Köln 	Joanna Klabisch, China-Referenti
 n, Stiftung Asienhaus, Moderation \n\nDie Diskussion wird von 13:45 - 15:00
  Uhr stattfinden. Wir freuen uns auf Ihr zahlreiches Erscheinen!\n\nWeitere
  Infos zum China-Tag 2024 auf der Seite der Stadt Köln.
LOCATION:Rautenstrauch-Joest-Museum
DTSTAMP:20241205T121025Z
DTSTART:20241208T100000Z
DTEND:20241208T180000Z
END:VEVENT
END:VCALENDAR