BEGIN:VCALENDAR
VERSION:2.0
PRODID:https://github.com/derhansen/sf_event_mgt
METHOD:PUBLISH
BEGIN:VEVENT
UID:101-737@www.asienhaus.de
CLASS: PUBLIC
SUMMARY:Climate Change Adaptation Challenges and Practices in Timor-Leste
DESCRIPTION:Socio-Environmental Conflicts in Southeast Asia: A Lecture Seri
 es\n\nAdilson da Costa’s talk examins the impact of climate change on the l
 ives of communities, particularly the most vulnerable groups like women and
  people with disabilities and how Oxfam in Timor-Leste is enhancing communi
 ty resilience to climate change.\n\nAbout Adilsonio da Costa Junior\n\n 	Re
 searcher and Policy Analysist, Strategy and Engagement Coordinator.  	Leade
 rship to the Climate Change, Disability Inclusion Programs, Economic Divers
 ification and others related programs at Oxfam in Timor-Leste \n\nThe Talk 
 is part of the Lecture Series "Socio-Environmental Conflicts in Southeast A
 sia". The Lecture Series is organised by Abteilung für Südostasienwissensch
 aft der Universität Bonn, Stiftung Asienhaus and the philippinenbüro.\n\nLi
 nk to Zoom: https://uni-bonn.zoom-x.de/j/64497429221?pwd=glmSGQDsKoE6lRHzwo
 FJxQIXBzYjpl.1\n\nMeeting-ID: 644 9742 9221 Kenncode: 465004\n\nEveryone in
 terested is warmly invited.
LOCATION:Online-Event
DTSTAMP:20251227T080237Z
DTSTART:20260114T111500Z
DTEND:20260114T124500Z
END:VEVENT
END:VCALENDAR