BEGIN:VCALENDAR
VERSION:2.0
PRODID:https://github.com/derhansen/sf_event_mgt
METHOD:PUBLISH
BEGIN:VEVENT
UID:17-737@www.asienhaus.de
CLASS: PUBLIC
SUMMARY:Crashkurs Rohstoffpolitik 2022: Rohstoffwende gestalten
DESCRIPTION:Veranstaltungsreihe: Onlineveranstaltung am Dienstag 14.06.2022
  (18-19.30 Uhr), Physische Veranstaltung (2G+ Format) am Freitag 17.06.2022
  & Samstag 18.06.2022 in Hannover.\n\n"Wir befinden uns in inmitten einer ö
 kologischen, sozialen und politischen Krise: Wie können wir jetzt einen Kur
 swechsel in der Rohstoffpolitik gestalten? Was braucht es für eine Rohstoff
 wende und was muss die Bundesregierung tun?"\n\nProgramm & Informationen: h
 ttps://power-shift.de/termin/crashkurs-rohstoffpolitik-2022/
LOCATION:Stiftung Asienhaus und Online
DTSTAMP:20220531T100834Z
DTSTART:20220613T160000Z
DTEND:20220618T143000Z
END:VEVENT
END:VCALENDAR