BEGIN:VCALENDAR
VERSION:2.0
PRODID:https://github.com/derhansen/sf_event_mgt
METHOD:PUBLISH
BEGIN:VEVENT
UID:63-737@www.asienhaus.de
CLASS: PUBLIC
SUMMARY:Crashkurs Rohstoffpolitik 2024: Die Reise des Kupfers
DESCRIPTION:Veranstaltungsreihe: Onlineveranstaltung am Dienstag 04.06.2024
  (18-19.30 Uhr), Physische Veranstaltung am Donnerstag 06.06.2024 & Freitag
  07.06.2024 in Hamburg.\n\n"Von der Mine über den Hafen bis hin zur ressour
 cenleichten Mobilität. Gemeinsam diskutieren wir soziale & ökologische Folg
 en von Kupferraubbau und alternative Wege zur Rohstoffwende. Inklusive kolo
 nialgeschichtlicher Hafenrundfahrt und Besuch im Batterierecyclingwerk!"\n\
 nProgramm & Informationen: https://power-shift.de/termin/crashkurs-rohstoff
 e-2024/
LOCATION:Stiftung Asienhaus und Online
DTSTAMP:20240513T094714Z
DTSTART:20240604T160000Z
DTEND:20240607T143000Z
END:VEVENT
END:VCALENDAR