BEGIN:VCALENDAR
VERSION:2.0
PRODID:https://github.com/derhansen/sf_event_mgt
METHOD:PUBLISH
BEGIN:VEVENT
UID:43-737@www.asienhaus.de
CLASS: PUBLIC
SUMMARY:Crashkurs Rohstoffwende 2023
DESCRIPTION:Wir brauchen eine Rohstoffwende!\n\nDie nächsten Jahre sind pol
 itisch entscheidend um irreversible ökologische und soziale Schäden des Kli
 mawandels und sich damit überschneidende Krisen zu verhindern. Ein sozial-ö
 kologischer, politischer Kurswechsel im Umgang mit natürlichen Ressourcen i
 st dringend notwendig.\n\nCrashkurs: Strategien und Handlungsoptionen\n\nDe
 r Crashkurs Rohstoffwende führt in aktuelle Möglichkeiten und Hindernisse f
 ür eine umfassende Rohstoffwende in Deutschland ein. Wir schauen auf die de
 utsche Rohstoffstrategie und den heimischen Rohstoffabbau sowie Rohstoffrec
 ycling in Sachsen. Wir diskutieren aktuelle Themen in der Rohstoffpolitik, 
 wie den geplanten Entwurf für das EU-Gesetz zu kritischen Rohstoffen, die n
 eue EU-Batterieverordnung, Lieferkettengesetze und Auswirkungen des Bergbau
 s in Südamerika. Wir tauschen uns zu Möglichkeiten eines global gerechten Z
 usammenlebens sowie über Strategien und konkrete Handlungsmöglichkeiten für
  die Umsetzung einer Rohstoffwende in Deutschland aus. Dazu gehören das Rec
 ht auf Reparatur, eine umfassende Mobilitätswende, faire Lieferketten, Zero
  Waste etc.\n\nVeranstaltungsreihe\n\n 	 	Onlineveranstaltung am Dienstag, 
 5. September 2023 (18-19.30 Uhr), 	 	 	Physische Veranstaltung am Freitag, 
 den 8. September 2023 & Samstag, den 9. September 2023 in Dresden 	 \n\nAus
 führliches Programm, Informationen und Anmeldung: https://power-shift.de/te
 rmin/crashkurs-rohstoffe-2023/\n\nOrganisiert von: PowerShift e.V., INKOTA-
 netzwerk e.V. und vielen weiteren Organisationen, darunter die Stiftung Asi
 enhaus und das philippinenbüro e.V.\n\n\n\n
LOCATION:Veranstaltungsreihe
DTSTAMP:20230511T124206Z
DTSTART:20230905T160000Z
DTEND:20230909T140000Z
END:VEVENT
END:VCALENDAR