BEGIN:VCALENDAR
VERSION:2.0
PRODID:https://github.com/derhansen/sf_event_mgt
METHOD:PUBLISH
BEGIN:VEVENT
UID:111-737@www.asienhaus.de
CLASS: PUBLIC
SUMMARY:Crashkurs Rohstoffwende 2026
DESCRIPTION:Vom Oberrhein über Argentinien bis nach Simbabwe – Lithium-Abba
 u, Kreislaufwirtschaft und die Zukunft der Rohstoffpolitik\n\nLithium ist d
 as Herzstück der Energiewende: unverzichtbar für E-Autos und Batterien. Doc
 h wie steht es um die globale Gerechtigkeit?\n\nIm diesjährigen Crashkurs R
 ohstoffwende beleuchten wir gemeinsam mit dem netzwerk RohstoffGerecht Bade
 n-Württemberg und weiteren Partner:innen zentrale Abbaugebiete weltweit - v
 on den Salzseen in Argentinien, Bolivien und Chile über Simbabwe bis zum Ob
 errheingraben in Baden-Württemberg.\n\nWir diskutieren die sozialen und öko
 logischen Folgen, die Verantwortung entlang globaler Wertschöpfungsketten u
 nd die Implikationen des neuen EU Critical Raw Materials Act. Mit dem Lionh
 eart-Projekt von Vulcan Energy rückt der Lithiumabbau direkt vor unsere Hau
 stür. Im Rahmen des Kurses besuchen wir das Projekt vor Ort und diskutieren
 , wie im demokratischen Dialog Konflikte minimiert und globale Gerechtigkei
 tsfragen mit lokalen Perspektiven zusammengebracht werden können.\n\nDer Ku
 rs bietet Multiplikator:innen die Chance, sich zu vernetzen und konkrete Ha
 ndlungsansätze für eine gerechte Rohstoffpolitik zu entwickeln.\n\nTermine:
 \n\n 	Online: Montag, 1.6.2026 (18:00–19:30 Uhr) 	In Karlsruhe: Montag, 8.6
 .- Dienstag, 9.6.2026, siehe Programm \n\nAnmeldung bis zum 4. Mai 2026:\n\
 nWir bitten um eine kurze Bewerbung mit Name und ggf. Organisation (Partei/
  NGO/ Medium) und Motivation zur Crashkurs-Teilnahme hier im Anmeldeformula
 r.\n\n 	Teilnahmebeitrag: 50€ (für Organisationen 100€) inkl. Verpflegung, 
 Übernachtung (8.6.2026) 	Es soll nicht am Geld scheitern (bitte im Zweifel 
 bei helen.levine@power-shift.de melden). 	Organisation durch PowerShift 	Mo
 deration: Hannah Pilgrim, Michael Reckordt (PowerShift) 	Kontakt: Helen Lev
 ine (PowerShift) \n\nDas philippinenbüro und die Stiftung Asienhaus sind Mi
 tveranstalter des Crashkurses.
LOCATION:Kulturküche
DTSTAMP:20260422T142421Z
DTSTART:20260601T160000Z
DTEND:20260609T140000Z
END:VEVENT
END:VCALENDAR