BEGIN:VCALENDAR
VERSION:2.0
PRODID:https://github.com/derhansen/sf_event_mgt
METHOD:PUBLISH
BEGIN:VEVENT
UID:35-737@www.asienhaus.de
CLASS: PUBLIC
SUMMARY:Diskussionsrunde zu Anti-asiatischem Rassismus
DESCRIPTION:Diskussionsrunde und Austausch zu anti-asiatischem Rassismus mi
 t Dr. Liya Yu.\n\nDer China-Salon und die AG zu anti-asiatischem Rassismus 
 organisieren gemeinsam diese Veranstaltung, auf der Dr. Liya Yu ihre Arbeit
  zu den Grundlagen des anti-asiatischen Rassimus vorstellt.\n\nDie Veransta
 ltung findet hybrid statt. \n\nZur Online-Teilnahme über Zoom bitte vorab h
 ier anmelden: unter: https://us02web.zoom.us/meeting/register/tZYodOippz4jG
 9aeSYhkKocgMfz3RdfFMWtX\n\nZur persönlichen Teilnahme im Asienhaus, schreib
 en Sie bitte eine E-Mail mit Ihrem Namen und ggfs. Organisation an anmeldun
 g@philippinenbuero.de\n\nDie Teilnahme ist kostenlos.
LOCATION:Stiftung Asienhaus
DTSTAMP:20230123T101528Z
DTSTART:20230127T173000Z
DTEND:20230127T190000Z
END:VEVENT
END:VCALENDAR