BEGIN:VCALENDAR
VERSION:2.0
PRODID:https://github.com/derhansen/sf_event_mgt
METHOD:PUBLISH
BEGIN:VEVENT
UID:58-737@www.asienhaus.de
CLASS: PUBLIC
SUMMARY:Filmvorführung: Kurzfilme aus Myanmar
DESCRIPTION:Am 13.12. zeigen wir ab 18 Uhr in der Stiftung Asienhaus 2 Kurz
 filme aus Myanmar und führen im Anschluss ein Gespräch mit 2 anwesenden Reg
 isseur:innen.\n\nJourney of a Bird ist eine 28-minütige Dokumentation über 
 einen Teenager, der nach dem Putsch zunächst depressiv wird, aber im Aufbau
  einer unabhängigen Mediengruppe eine neue Berufung findet. Der Film ist in
  Burmesisch und Englisch untertitelt.\n\nBurn Boys ist ein Kurzspielfilm. D
 ie beiden Söhne einer Karen-Frau treffen das erste Mal auf ihren Vater, ein
 en ehemaligen Offizier der Luftwaffe, der ihre Mutter vergewaltigt hat. Der
  Film ist in Burmesisch und Englisch untertitelt.
LOCATION:Stiftung Asienhaus
DTSTAMP:20231206T232933Z
DTSTART:20231213T170000Z
DTEND:20231213T183000Z
END:VEVENT
END:VCALENDAR