BEGIN:VCALENDAR
VERSION:2.0
PRODID:https://github.com/derhansen/sf_event_mgt
METHOD:PUBLISH
BEGIN:VEVENT
UID:49-737@www.asienhaus.de
CLASS: PUBLIC
SUMMARY:Gedenktag für den Genozid an den Rohingya
DESCRIPTION:\n\nAm 25. August jährt sich die letzte Welle der Gewalt gegen 
 die Rohingya zum 6. Mal. Im Zuge der anhaltenden Gewalt in Myanmar ist die 
 Rohingyagemeinde in Deutschland über die letzten Jahre gewachsen. Die Stift
 ung Asienhaus möchte dieser Gemeinde helfen zusammenzuwachsen und Solidarit
 ät zu erfahren.\n\nDaher unterstützen wir am 25. August die Ausrichtung des
  ersten Gedenktags an den Genozid in Deutschland. Von 15 bis 17 Uhr wird in
  der Alten Feuerwache in Köln ein Raum zum Austausch geboten, Solidarität b
 ekundet, ein kurzer Film geschaut und eine Gruppendiskussion abgehalten. Di
 es alles geschieht mit und organisiert durch die Rohingyagemeinde in Deutsc
 hland.\n\nWir laden Sie herzlich ein teilzunehmen!
LOCATION:Alte Feuerwache, Köln
DTSTAMP:20230822T172428Z
DTSTART:20230825T130000Z
DTEND:20230825T150000Z
END:VEVENT
END:VCALENDAR