BEGIN:VCALENDAR
VERSION:2.0
PRODID:https://github.com/derhansen/sf_event_mgt
METHOD:PUBLISH
BEGIN:VEVENT
UID:23-737@www.asienhaus.de
CLASS: PUBLIC
SUMMARY:Im "Dazwischen" mit China: von Orten der Begegnung und Themen des Konflikts
DESCRIPTION:Orte der Begegnung: Vortragsreihe zum 50-jährigen Bestehen der 
 diplomatischen Beziehungen zwischen China und Deutschland\n\nDie diplomatis
 chen Beziehungen zwischen China und Deutschland wurden 1972 in einer politi
 sch sehr angespannten Zeit begründet. Und dennoch erwuchs daraus eine große
  Vielfalt starker Kooperationen. In unserer Vortragsreihe sprechen Künstler
 , Wissenschaftler und Wirtschaftsvertreter, die große Teile ihrer Berufslau
 fbahn und auch ihres persönlichen Lebens dem Dialog zwischen Deutschland un
 d China gewidmet haben. Die Vortragsreihe legt den Fokus auf den gelebten A
 ustausch, statt allein die theoretische Ebene zu behandeln.\n\nDr. Christia
 n Straube, Programm Manager im China-Programm der Stiftung Asienhaus in Köl
 n, kehrt zurück zu seinen persönlichen Begegnungsorten im "Dazwischen" mit 
 China: von der Schule in Malaysias Nordwesten, dem Studium in Heidelberg un
 d Peking über die Forschung auf dem Kupfergürtel Sambias bis zur zivilgesel
 lschaftlichen Dialogarbeit im Kontext der Initiative Neue Seidenstraße. Sei
 n Fokus wird dabei auf der Vielfalt des chinesischen Gegenübers, den Diskur
 sen über das Dazwischen, der Macht über das Gesagte und dem Verlust des Zug
 angs zum Anderen liegen.\n\nDie meisten Vorträge finden in den Räumen des K
 onfuzius-Instituts in der Virchowstraße 23 in Nürnberg statt. Eine Anmeldun
 g ist nicht nötig. Zudem können Sie alle Vorträge über Zoom verfolgen.
LOCATION:Konfuzius-Institut Nürnberg-Erlangen
DTSTAMP:20220815T142841Z
DTSTART:20220907T160000Z
DTEND:20220907T180000Z
END:VEVENT
END:VCALENDAR