BEGIN:VCALENDAR
VERSION:2.0
PRODID:https://github.com/derhansen/sf_event_mgt
METHOD:PUBLISH
BEGIN:VEVENT
UID:102-737@www.asienhaus.de
CLASS: PUBLIC
SUMMARY:Indigenous People in Thailand: Self-Determination and Climate Justice
DESCRIPTION:Socio-Environmental Conflicts in Southeast Asia: A Lecture Seri
 es\n\nIn this lecture, we explore the challenges Indigenous Peoples in Thai
 land face as they struggle for self-determination and climate justice. We e
 xamine how land rights are defined, which extractive conflicts are unfoldin
 g, and how these communities respond through campaigns, legal action, and e
 veryday resistance.\n\nPirawan Wongnithisathaporn works as an Environmental
  Program Officer at the Asia Indigenous Peoples Pact, bringing years of exp
 erience in supporting advocacy for Indigenous Peoples’ rights and indigenou
 s women at national and international levels.\n\nThe Talk is part of the Le
 cture Series "Socio-Environmental Conflicts in Southeast Asia". The Lecture
  Series is organised by Abteilung für Südostasienwissenschaft der Universit
 ät Bonn, Stiftung Asienhaus and the philippinenbüro.\n\nEveryone interested
  is warmly invited.
LOCATION:Abteilung für Südostasienwissenschaft
DTSTAMP:20251208T082016Z
DTSTART:20251217T111500Z
DTEND:20251217T124500Z
END:VEVENT
END:VCALENDAR