BEGIN:VCALENDAR
VERSION:2.0
PRODID:https://github.com/derhansen/sf_event_mgt
METHOD:PUBLISH
BEGIN:VEVENT
UID:54-737@www.asienhaus.de
CLASS: PUBLIC
SUMMARY:Klimaalarm: Klimafinanzierung dekolonisieren und Aktivist:innen stärken
DESCRIPTION:[English translation below] Die Klimakrise trifft südostasiatis
 che Länder besonders hart. Klimaschutz und Anpassung brauchen große Ressour
 cen, internationale Förderinstrumente sind heiß begehrt. Doch wer macht die
  großen Klimaprojekte und für wen? Damit den Herausforderungen von Klimawan
 delfolgen gerecht begegnet werden kann, müssen lokale Gemeinschaften und Kl
 imabewegungen einbezogen werden. Was haben sie für Forderungen und wie kann
  sich Zivilgesellschaft zu Umwelt- und Klimathemen in repressiven Staaten e
 inbringen? Neben diesen Fragen betrachten wir Klimafinanzierung mit einem B
 lick auf koloniale Strukturen.\n\nMit Julia Behrens (Postdoc Fellow Univers
 ität Bielefeld) und Tala Batangan (Reality of Aid – Asia Pacific).\n\nModer
 ation: Oliver Pye (Institut für Orient- und Asienwissenschaften, Universitä
 t Bonn)\n\nDas Webinar findet online auf Englisch über Zoom statt. Eine Übe
 rsetzung ins Deutsche wird angeboten.\n\nZum Webinar anmelden.\n\nDas Webin
 ar ergänzt die Ausgabe "Klima im Wandel – Gesellschaft in Bewegung" unseres
  Online-Magazins südostasien.\n\nEine Veranstaltung von Stiftung Asienhaus 
 und philippinenbüro e.V.\n\nDie Veranstaltung ist mit Mitteln der Heinrich-
 Böll-Stiftung gefördert.  \n\n\n\n\n\nGefördert von Engagegment Global mit 
 Mitteln des BMZ sowie von Misereor.\n\n\n\n\n\n\n\n\n\nThe Climate crisis i
 s hitting Southeast Asia particularly hard. Climate change mitigation and a
 daptation require resources; international funding is in high demand. Who i
 s leading major climate projects and for whom? To meet the challenges of cl
 imate change impacts fairly, local communities and climate movements need t
 o be involved. What are their needs and their demands? How can civil societ
 y engage in environmental and climate issues in repressive states? And how 
 is climate finance influenced by colonial structures?\n\nWith Julia Behrens
  (Postdoc Fellow University of Bielefeld) and Tala Batangan (Reality of Aid
  - Asia Pacific). Moderation: Oliver Pye (Institute of Oriental and Asian S
 tudies, University of Bonn) The webinar is hosted on Zoom. A translation in
 to German will be provided.\n\nRegister for the webinar
LOCATION:Online-Event
DTSTAMP:20230928T111433Z
DTSTART:20231010T100000Z
DTEND:20231010T113000Z
END:VEVENT
END:VCALENDAR