BEGIN:VCALENDAR
VERSION:2.0
PRODID:https://github.com/derhansen/sf_event_mgt
METHOD:PUBLISH
BEGIN:VEVENT
UID:71-737@www.asienhaus.de
CLASS: PUBLIC
SUMMARY:Koloniale Kontinuitäten in Indonesien/Osttimor: Lesung mit Felix K. Nesi
DESCRIPTION:Lesung mit Felix K. Nesi, Autor des Romans ‚Die Leute von Oetim
 u. Eine garantiert wahre Geschichte aus Timor‘ Mit einer politischen Orient
 ierung durch Monika Schlicher (Stiftung Asienhaus) und Sabine Müller (Übers
 etzerin), Moderation: Karl Mertes (DIG Köln)\n\nMittwoch, 13. November 2024
 , 19:00 Uhr Ort: Der andere Buchladen, Weyertal 32, 50937 Köln-Sülz (Uni-Nä
 he), Eintritt frei!\n\nFußballweltmeisterschaft 1998. Die Leute von Oetimu 
 hat das Fußballfieber gepackt und fiebern vor dem Fernseher in der Polizeiw
 ache mit der brasilianischen Fußballelf. Am Ende verliert Brasilien gegen F
 rankreich und für einige Dorfbewohner ist nichts mehr wie es vorher war.\n\
 nIn seinem vielfach ausgezeichneten Debütroman führt Felix Nesi in das fikt
 ive Dorf im indonesischen Westtimor an der Grenze zu Timor-Leste und erzähl
 t von seinen Menschen, deren Geschichten eng mit der kolonialen Vergangenhe
 it und den komplexen politischen Umbrüchen Indonesiens verwoben sind. Nesi 
 gelingt eine literarische Verknüpfung von humorvollen, vor satirischem Witz
  strotzenden Szenen aus dem Leben der „Leute von Oetimu“ mit den von Gewalt
  und Konflikten geprägten historischen Kapiteln des gesamten Archipels.\n\n
 Felix K. Nesi, geboren 1988 im Dorf Nesam-Insana, Westtimor, gehört zu den 
 aufstrebenden Stimmen der indonesischen Literatur. Er ist Mitbegründer der
  Komunitas Leko, die sich für Alphabetisierung einsetzt, sowie einer Buchh
 andlung, einer Bibliothek und eines Literaturfestivals in Westtimor und hat
  zur Versklavung von Menschen aus Timor durch den niederländischen Kolonial
 staat geforscht. Die  Leute von Oetimu gewann 2018 den Literaturwettbewerb 
 des Kunstrats Jakarta als Bester Roman des Jahres und wurde 2021 mit dem Li
 teraturpreis des indonesischen Ministeriums für Bildung und Kultur ausgeze
 ichnet.\n\nEine gemeinsame Veranstaltung von Deutsch-Indonesische Gesellsch
 aft Köln (DIG), Stiftung Asienhaus und Der andere Buchladen.\n\n\n\n
LOCATION:Der andere Buchladen
DTSTAMP:20241015T122135Z
DTSTART:20241113T180000Z
DTEND:20241113T200500Z
END:VEVENT
END:VCALENDAR