BEGIN:VCALENDAR
VERSION:2.0
PRODID:https://github.com/derhansen/sf_event_mgt
METHOD:PUBLISH
BEGIN:VEVENT
UID:53-737@www.asienhaus.de
CLASS: PUBLIC
SUMMARY:Myanmar – zweieinhalb Jahre nach dem Militärputsch. Die Perspektive der Zivilgesellschaft
DESCRIPTION:Vor über zwei Jahren putschte sich das Militär gegen die demokr
 atisch gewählte Regierung in Myanmar an die Macht. Seitdem herrscht im Land
  das Militär über die Bevölkerung; Massenverhaftungen, Folter und Hinrichtu
 ngen sind an der Tagesordnung. An dem Abend geben Majid Lenz (Stiftung Asie
 nhaus in Köln) und Nyein Chan May (Verein German Solidarity with Myanmar De
 mocracy e.V.) zunächst einen Überblick über die Hintergründe des Putschs, d
 en Widerstand gegen das Regime sowie die aktuelle Situation im Land und mög
 liche Zukunftsperspektiven. Im Anschluss daran findet eine Diskussion statt
 .\n\nEine Veranstaltung von Amnesty International, Bezirk Darmstadt, und de
 m Evangelischen Dekanat Darmstadt. Finanziell unterstützt wird die Veransta
 ltung aus Mitteln der Erwachsenenbildung der EKHN.\n\n\n\nDie Veranstaltung
  findet statt am 16.11.2023 um 19:00 Uhr in Darmstadt.\n\nVeranstaltungsort
  ist Das Offene Haus, Rheinstr. 31, Darmstadt.\n\nDer Eintritt ist frei abe
 r es wird um eine Spende gebeten.
LOCATION:Das Offene Haus
DTSTAMP:20230928T092212Z
DTSTART:20231116T180000Z
DTEND:20231116T193000Z
END:VEVENT
END:VCALENDAR