BEGIN:VCALENDAR
VERSION:2.0
PRODID:https://github.com/derhansen/sf_event_mgt
METHOD:PUBLISH
BEGIN:VEVENT
UID:74-737@www.asienhaus.de
CLASS: PUBLIC
SUMMARY:Myanmar zwischen Diktatur und Widerstand: Ein Jahr nach Operation 1027
DESCRIPTION:Seit dem versuchten Putsch des myanmarischen Militärs 2021 , si
 nd Massenverhaftungen, Folter und außergerichtliche Tötungen im Land an der
  Tagesordnung. Im Oktober 2023 erlangte die Operation 1027 einiges an Aufme
 rksamkeit. Durch den Eintritt einer Reihe von bewaffneten Organisationen ge
 riet das Militär zunehmend unter Druck. Wie ist die Lage ein Jahr später? W
 ie sieht der Widerstand aus? Wie werden intersektionale und feministische A
 spekte in ihm verankert? Und was sagt dies über eine mögliche Zukunft des L
 andes?\n\nVeranstalter: Amnesty International Darmstadt und das Evangelisch
 e Dekanat Darmstadt Sprecher:innen: Nyein Chan May (German Solidarity Myanm
 ar) und Majid Lenz (Stiftung Asienhaus)
LOCATION:Das Offene Haus
DTSTAMP:20241127T110944Z
DTSTART:20241128T180000Z
DTEND:20241128T200000Z
END:VEVENT
END:VCALENDAR