BEGIN:VCALENDAR
VERSION:2.0
PRODID:https://github.com/derhansen/sf_event_mgt
METHOD:PUBLISH
BEGIN:VEVENT
UID:83-737@www.asienhaus.de
CLASS: PUBLIC
SUMMARY:Myanmars Jugend: Vom Hörsaal zum bewaffneten Widerstand
DESCRIPTION:Vier Jahre nach dem gescheiterten Militärputsch leisten vor all
 em junge Menschen in Myanmar weiterhin entschlossenen Widerstand. Tausende 
 von ihnen – einst Studierende und Aktivist:innen – greifen heute zu den Waf
 fen, um gegen das Regime zu kämpfen. Die Generation Z war die erste, die re
 lativ freien Zugang zu Informationen hatte und an eine selbstbestimmte Zuku
 nft glaubte. Doch der Putsch nahm ihr diese Perspektive.\n\nDiese Veranstal
 tung beleuchtet die Hintergründe des Widerstands, die Motivation der jungen
  Menschen und die dramatischen Folgen für eine ganze Generation. Jasmin Lor
 ch (IDOS), Antoine Ripoll (DG PART in ASEAN) und Nyein Chan May (GSM e.V.) 
 werden in dieser Diskussionsveranstaltung ihre jeweiligen Expertisen beitra
 gen. So können aktivistische, wissenschaftliche und politische Ansätze zusa
 mmen gebracht und diskutiert werden.\n\nDie Veranstaltung ist eine Kooperat
 ion der Jungen DGAP, German Solidarity Myanmar und der Stiftung Asienhaus.\
 n\nHier könnt ihr euch zur Veranstaltung anmelden!
LOCATION:Online-Event
DTSTAMP:20250225T094834Z
DTSTART:20250226T160000Z
DTEND:20250226T180000Z
END:VEVENT
END:VCALENDAR