BEGIN:VCALENDAR
VERSION:2.0
PRODID:https://github.com/derhansen/sf_event_mgt
METHOD:PUBLISH
BEGIN:VEVENT
UID:41-737@www.asienhaus.de
CLASS: PUBLIC
SUMMARY:11,103 - Film Screening and Discussion
DESCRIPTION:Amidst a colossal push to rewrite history, nothing can erase th
 e memory of the people who have lived through the perils of those dark time
 s. They are the 11,103.\n\nMartial Law is best remembered for its record nu
 mber human rights abuses. 11,103 is a collection of stories of survivors of
  the state sponsored violence.\n\nWhat are the achievements, challenges and
  obstacles in memorial work? We discuss this question from a Filipino and a
  German perspective.\n\nTogether with the philippinenbüro, PhilNetz, Forum 
 Ziviler Friedensdienst, Dakila and its Active Vista Center, the Aktionsbünd
 nis Menschenrechte - Philippinen (AMP) invites you to a film screening of 1
 1,103 - A Film about Martial Law Survivors in the Philippines, produced by 
 Kara Magsanoc-Alikpala, and directed by Mike Alcazaren and Jeannette Ifurun
 g.\n\nLeni Velasco, Secretary General of Dakila - Active Vista will bring t
 he documentary to Cologne.\n\nPlease register via anmeldung@philippinenbuer
 o.de
LOCATION:Stiftung Asienhaus
DTSTAMP:20230331T192339Z
DTSTART:20230502T160000Z
DTEND:20230502T190000Z
END:VEVENT
END:VCALENDAR