BEGIN:VCALENDAR
VERSION:2.0
PRODID:https://github.com/derhansen/sf_event_mgt
METHOD:PUBLISH
BEGIN:VEVENT
UID:46-737@www.asienhaus.de
CLASS: PUBLIC
SUMMARY:Ökumenische Philippinenkonferenz 2023
DESCRIPTION:38. ÖPK zum Thema „Zukunft der Indigenen ist die Zukunft Aller“
 \n\nDie diesjährige Ökumenische Philippinenkonferenz (ÖPK) findet vom 13.-1
 5. Oktober 2023 in Bonn statt. Das Schwerpunktthema „Zukunft der Indigenen 
 ist die Zukunft Aller“ greift das Thema der 31. ÖPK von 2015 auf, als sich 
 die ÖPK bereits mit dem Thema Indigene befasste: „Philippinen – Recht auf V
 ielfalt: Menschenrechte und Erhalt der Lebensgrundlagen Indigener in einer 
 globalisierten Welt“.\n\nDarauf aufbauend geht es uns diesmal mehr um das g
 enaue Hinschauen, Hören und Reflektieren über die kulturellen Werte von Ind
 igenen, bewusste oder unbewusste Ignoranz (auch von uns selbst) und um „War
 nungen“ zu Natur- und Umweltzerstörungen über die Generationen zu verstehen
  und ernst zu nehmen.\n\nWir wollen damit die Beschäftigung mit Indigenen V
 ölkern aus der „Exoten“ Ecke herausholen und das Thema in einen größeren ge
 sellschaftlichen Zusammenhang stellen. Das, was die Indigenen heute erfahre
 n in Form von Klimaschäden, Verlust der Biodiversität und der Lebensräume, 
 Lebenschancen und Zukunftsgestaltung ist eine Bedrohung des ganzen Landes. 
 Der Anteil der Indigenen macht je nach Definition 15-20% der philippinische
 n Bevölkerung aus. Ihre Wahrnehmung in der philippinischen Gesellschaft spi
 egelt das nicht wider.\n\nWir freuen uns auf ein spannendes Wochenende mit 
 Euch, das sicher auch mit kontroversen Diskussionen als auch mit der Jahres
 reflexion und aktuellen Neuigkeiten aus den Philippinen angereichert sein w
 ird, sowie auf Sonntag mit unserem gemeinsamen Ökumenischen Gottesdienst. A
 lso viel Gelegenheit für Begegnung und Gesprächsrunden.\n\nZur inhaltlichen
  Vorbereitung auf die diesjährige ÖPK dient das Factsheet Philippinen „Indi
 gene Völker und Gemeinschaften“, das vom philippinenbüro erarbeitet wurde.\
 n\nWir freuen uns auf Eure/Ihre Teilnahme und auf ein Wiedersehen,\n\nder Ö
 PK Arbeitskreis\n\n \n\nAnmeldung\n\nAnmeldefrist: 29.09.2023\n\nÖPK Tagung
 sgebühr (inkl. Unterkunft und Verpflegung):\n\nfür Selbstzahler:innen:  € 6
 5,-\n\nfür Vertreter:innen von Organisationen:  € 110,-\n\nfür Studierende 
 und ggf. weitere Interessierte, die „knapp bei Kasse sind“, kann ein Nachla
 ss gewährt werden.\n\nÜber die Höhe von möglichen Fahrkostenzuschüssen kann
  erst nach der Schlussabrechnung der Tagung entschieden werden.\n\nBei früh
 zeitiger Anmeldung bis zum 8. September und angezeigtem Interesse werden wi
 r versuchen, eine Kinderbetreuung zu organisieren. Bitte teilt uns bei Inte
 resse Anzahl und Alter der Kinder mit (siehe weiter unten).\n\nWie in frühe
 ren Jahren findet die ÖPK auch aufgrund der internationalen Gäste auf Deuts
 ch und auch auf Englisch statt. Bitte teilt uns mit, ob Ihr eine „Flüsterüb
 ersetzung“ benötigt. Ferner, ob Ihr Euch ggf. vorstellen könnt, selbst bei 
 „Flüsterübersetzungen“ (Englisch/Deutsch, Deutsch/ Englisch) aushelfen zu k
 önnen, was unserer Planung sehr helfen würde, damit wir einen Pool von Über
 setzungshilfen bilden könnten.\n\nAnfahrtsbeschreibung: Bitte orientiert Eu
 ch an der Wegbeschreibung des Tagungshauses!\n\n \n\nAnmeldung bitte per e-
 mail oder postalisch bis spätestens 29. September senden an:\n\nMichael Nig
 gemann, Dibergstr. 57, 44789 Bochum\n\ne-mail: oepk-Anmeldung@web.de\n\nNam
 e, Vorname:\n\nAnschrift:\n\nName der Gruppe/Organisation:\n\nTelefonnummer
 :\n\nE-Mail-Adresse:\n\nVegetarisches Essen erwünscht: Ja___/ Nein___\n\nVe
 ganes Essen erwünscht: Ja___ / Nein___\n\nAllergien in Bezug auf Ernährung:
  ________________\n\nSprache: Brauche „Flüsterübersetzung“ Ja___/ Nein___\n
 \nKann selber „Flüsterübersetzung“ anbieten: Ja___/ Eher nicht____\n\nAnrei
 se / Abreise, falls abweichend:\n\nSonstige Kommentare/ Hinweise:
LOCATION:Haus Venusberg, Bonn
DTSTAMP:20230925T125812Z
DTSTART:20231013T150000Z
DTEND:20231015T110000Z
END:VEVENT
END:VCALENDAR