BEGIN:VCALENDAR
VERSION:2.0
PRODID:https://github.com/derhansen/sf_event_mgt
METHOD:PUBLISH
BEGIN:VEVENT
UID:21-737@www.asienhaus.de
CLASS: PUBLIC
SUMMARY:Prospects and Challenges in Digital Activism: A post-election discussion
DESCRIPTION:Disinformation campaigns waged through social media platforms l
 ike Facebook and Tik Tok played a major role in the 2022 Philippine electio
 ns. These campaigns will go on and will continue to affect our mindset and 
 opinions.\n\nHow will they impact the lives and prospects of Philippine dia
 spora members in Germany and other European countries? What are the challen
 ges and prospects faced by Philippine diaspora communities in coping with a
 nd fighting against these disinformation campaigns? What do they need and w
 hat can they do to move forward with their advocacies for good governance u
 nder the new administration?\n\nSign up here: factsfirstph@protonmail.com\n
 \nNach den Präsidentschaftswahlen im Mai 2022 bieten PhilNetz - Philippine 
 Diaspora Network for Integration and Development Cooperation und das philip
 pinenbüro Raum zur Diskussion.\n\nDesinformationskampagnen über Plattformen
  der soziale Medien wie TikTok und Facebook haben eine große Rolle in den W
 ahlen 2022 gespielt. Diese Kampagnen werden weitergehen und unsere Denkweis
 en und Meinungen beeinflussen. Wie werden sie sich auf die Leben und Aussic
 hten von Mitgliedern der philippinischen Diaspora in Deutschland und andere
 n europäischen Ländern auswirken? Was sind die Herausforderungen und Aussic
 hten mit denen sich Gemeinschaften der philippinischen Diaspora im Umgang m
 it und im Kampf gegen Desinformation konfrontiert sehen? Was brauchen sie u
 nd was können sie tun, um ihre Themen wie good governance unter der neuen A
 dministration voran zu bringen?\n\nAnmeldung unter: factsfirstph@protonmail
 .com
LOCATION:Stiftung Asienhaus und Online
DTSTAMP:20220607T131504Z
DTSTART:20220616T150000Z
DTEND:20220616T170000Z
END:VEVENT
END:VCALENDAR