BEGIN:VCALENDAR
VERSION:2.0
PRODID:https://github.com/derhansen/sf_event_mgt
METHOD:PUBLISH
BEGIN:VEVENT
UID:82-737@www.asienhaus.de
CLASS: PUBLIC
SUMMARY:Publication Launch: Indigenous Peoples' Rights in the Philippines
DESCRIPTION:During the one-hours online launch of the publication three aut
 hors will provide insides into their chapters, namely Cynthia Deduro of PGI
 Pnet, the researcher Eric Gutierrez, and Lena Muhs formerly forumZFD. There
  will be room for questions to the presenting authors and authors of other 
 chapters. Join us in learning more about the realities, challenges, and str
 uggles for self-determination of Indigenous Peoples in the Philippines.\n\n
 Date: February 24, 2025 Time: 12nn CET/ 7pm Philippine Time Language: Engli
 sh\n\nRegister now: anmeldung@philippinenbuero.de
LOCATION:Online-Event
DTSTAMP:20250211T115802Z
DTSTART:20250224T110000Z
DTEND:20250224T120000Z
END:VEVENT
END:VCALENDAR