BEGIN:VCALENDAR
VERSION:2.0
PRODID:https://github.com/derhansen/sf_event_mgt
METHOD:PUBLISH
BEGIN:VEVENT
UID:85-737@www.asienhaus.de
CLASS: PUBLIC
SUMMARY:Philippines: Representation and Resistance / Repräsentation und Widerstand
DESCRIPTION:The Philippines will hold its midterm elections in May, followe
 d by the election in the Bangsamoro Autonomous Region in Muslim Mindanao (B
 ARMM) in October this year. What is at stake for Non-Moro Indigenous People
 s (NMIP) in Mindanao and other less privileged groups? We discuss these que
 stions with peace advocate Sharon Bulaclac and youth leader Jay Jomar Mosel
 a.\n\nThe event will be held in English. Translation to German is possible 
 upon request and if attended in person in the Asia House. Online, only Engl
 ish is available. Wether you attend in person or online we ask you to regis
 ter via anmeldung@philippinenbuero.de\n\nThe Asia House has an elevator and
  is largely barrier-free.\n\nThe event is organized by the philippinenbüro 
 and Pro Peace.\n\n------------------------------------------Deutsch--------
 ---------------------------------------------\n\nIm Mai finden auf den Phil
 ippinen die Zwischenwahlen statt, gefolgt von den Wahlen in der Autonomen R
 egion Bangsamoro in Muslim Mindanao (BARMM) im Oktober 2025. Was steht für 
 die indigene Nicht-Moro-Bevölkerung (NMIP) in Mindanao und andere weniger p
 rivilegierte Gruppen auf dem Spiel? Wir diskutieren diese Fragen mit der Fr
 iedensaktivistin Sharon Bulaclac und dem youth leader Jay Jomar Mosela.\n\n
 Die Veranstaltung wird auf Englisch durchgeführt. Übersetzung ins Deutsche 
 sind auf Anfrage und bei Teilnahme in persona im Asienhaus möglich. Bei der
  Online-Teilnahme können wir leider keine Übersetzung anbieten. Wir bitten 
 Sie in jedem Fall um eine Anmeldung über anmeldung@philippinenbuero.de\n\nD
 as Asienhaus hat einen Fahrstuhl und ist weitestgehend barrierefrei.\n\nDie
  Veranstaltung wird organisiert vom philippinenbüro und Pro Peace.
LOCATION:Stiftung Asienhaus und Online
DTSTAMP:20250428T144511Z
DTSTART:20250506T170000Z
DTEND:20250506T190000Z
END:VEVENT
END:VCALENDAR