BEGIN:VCALENDAR
VERSION:2.0
PRODID:https://github.com/derhansen/sf_event_mgt
METHOD:PUBLISH
BEGIN:VEVENT
UID:56-737@www.asienhaus.de
CLASS: PUBLIC
SUMMARY:Save the Date: 10 Jahresfeier Bettina-Kattermann-Stiftung
DESCRIPTION:Vorführung des Films „Midwives“ mit anschließender Diskussion m
 it der Filmemacherin Snow Hnin Ei Hlaing. Der Film untersucht aus einer spa
 nnenden Perspektive die gesundheitliche Situation gebärender Frauen in Myan
 mar.\n\nWarum und was feiern wir?\n\nVor 10 Jahren wurde die Bettina-Katter
 mann-Stiftung von der Schwester der verstorbenen Namensgeberin gegründet. I
 n Gedenken an Bettina Kattermann, die vielfach für Organisationen wie Ärzte
  ohne Grenzen in Krisengebieten im Einsatz war, beschloss sie ihr Erbe für 
 die Fortbildung von medizinischen Personal aus Myanmar einzusetzen. Dazu wu
 rde das jährlich vergebene Stipendium ausgeschrieben, mit dem ein Aufbaustu
 dium in Thailand finanziert werden sollte.\n\nSeit 2013 wurden insgesamt 11
  Stipendien für das Studium in verschiedenen Fachrichtungen vergeben. Alle 
 StipendiatInnen haben, trotz teilweise widriger Umstände, die den politisch
 en Verhältnissen in Myanmar geschuldet sind, ihr Studium erfolgreich abgesc
 hlossen. Gegenwärtig befinden sich zwei Stipendiatinnen in der Fortbildung.
 \n\nZu erwähnen ist: das Stipendienprogramm wäre ohne die Unterstützung dur
 ch den Katholischen Akademischen Ausländerdienst (KAAD) nicht möglich gewes
 en. Der Einsatz seiner Mitarbeiter ist an diesem Tag auch zu feiern.
LOCATION:Eva Lichtspiele
DTSTAMP:20231024T101441Z
DTSTART:20231119T100000Z
DTEND:20231119T140000Z
END:VEVENT
END:VCALENDAR