BEGIN:VCALENDAR
VERSION:2.0
PRODID:https://github.com/derhansen/sf_event_mgt
METHOD:PUBLISH
BEGIN:VEVENT
UID:87-737@www.asienhaus.de
CLASS: PUBLIC
SUMMARY:philippinenbüro Jahresseminar zum Thema Arbeitsmigration
DESCRIPTION:Arbeitsmigration ist ein aktuell viel diskutiertes Thema mit la
 nger Geschichte. Deutschland sucht händeringend nach Fachkräften. In den Ph
 ilippinen drängen steigende Lebenshaltungskosten und begrenzte Jobmöglichke
 iten zuletzt wieder mehr Menschen dazu Jobs in Übersee zu finden. Während e
 in Großteil der Überseearbeiter:innen in Asien bleibt (77,4%), migriert nur
  ein verhältnismäßig kleiner Teil (8,4%) nach Europa. Doch die Philippinen 
 und einige europäische Staaten (z.B. Kroatien, Finnland, Dänemark, Deutschl
 and) intendieren ihre Zusammenarbeit zu intensivieren. In diesem Zuge trafe
 n Deutschland und die Philippinen im letzten Jahr gleich zwei bilaterale Ve
 reinbarungen zur Anwerbung von Pflegefachkräften und weiteren Fachkräften. 
 Deutschland will damit seinem Fachkräftemangel entgegenwirken. Gleichzeitig
  hat Rassismus und Ausländer:innenfeindlichkeit in vielen westlichen Staate
 n, wie auch in Deutschland auf politischer und gesellschaftlicher Ebene Kon
 junktur. Die philippinische Regierung hofft wiederum auf steigende Auslands
 überweisungen und Fachkräfte verlassen das Land, um sich und ihren Angehöri
 gen Zugang zu Gesundheit, Bildung und einen guten Lebensstandard zu ermögli
 chen. Wie hängen all diese Entwicklungen zusammen? Mit welchen Herausforder
 ungen sind philippinische Arbeitsmigrant:innen konfrontiert? Wie funktionie
 rt die (gewerkschaftliche) Interessenvertretung und wie lässt sich solidari
 sch wirken, sodass sich die Lebensrealität für (Arbeits-)migrant:innen und 
 ihre Familien in Deutschland verbessert? Was braucht es, damit die Philippi
 nen bei der Anwerbung von Fachkräften aus dem Ausland nicht verlieren, sond
 ern strukturelle Veränderungen möglich werden?\n\nDiese und weitere Fragen 
 sollen mit einer breiten Teilnehmer:innenschaft aus Interessierten, Betroff
 enen, Expert:innen und Akteuer:innen aus den Philippinen und in Deutschland
  während eines Wochenendseminars diskutiert und bewegt werden.\n\nDas Progr
 amm wird in Kürze hochgeladen. Anmeldungen ab sofort unter diesem Link.
LOCATION:Haus Venusberg, Bonn
DTSTAMP:20250704T082629Z
DTSTART:20250912T140000Z
DTEND:20250914T123000Z
END:VEVENT
END:VCALENDAR