BEGIN:VCALENDAR
VERSION:2.0
PRODID:https://github.com/derhansen/sf_event_mgt
METHOD:PUBLISH
BEGIN:VEVENT
UID:36-737@www.asienhaus.de
CLASS: PUBLIC
SUMMARY:Solidaritätstag mit Myanmar
DESCRIPTION:\n\nDas Erzbistum Köln engagiert sich unter dem Titel „Tokyoson
 ntag“ seit einigen Jahren gemeinsam mit Tokio für die Kirche in Myanmar. Am
  1. Februar 2023 jährt sich der Militärputsch in Myanmar zum zweiten Mal.\n
 \nDer Zeitpunkt war präzise gewählt: Wenige Stunden, bevor Myanmars neugewä
 hltes Parlament zur konstituierenden Sitzung zusammenkommen wollte, putscht
 e das Militär. Soldat:innen setzten führende Politiker:innen fest, unter ih
 nen die demokratisch gewählte Regierung samt Regierungschefin und Friedensn
 obelpreisträgerin Aung San Suu Kyi. Der Demokratisierungsprozess wurde jäh 
 unterbrochen. Seitdem sind die Generäle, die fast 50 Jahre über das südosta
 siatische Land geherrscht und 2015 erstmals freie Wahlen zugelassen hatten,
  zurück an der Macht. Nun tobt in Myanmar ein grausamer Krieg des Militärs 
 gegen die eigene Bevölkerung. Massenverhaftungen, Folter und Hinrichtungen 
 sind alltäglich. Aber das Militär stößt auch auf ungewohnte Gegenwehr: insb
 esondere die junge Generation wehrt sich mit zivilem Ungehorsam bis hin zum
  bewaffneten Widerstand gegen die Militärjunta und erzielt erstaunliche Erf
 olge.\n\nDennoch braucht das Volk von Myanmar internationale Unterstützung.
  Vor diesem Hintergrund informiert die Veranstaltung über die Hintergründe 
 der Gewalt, die aktuelle Lage und wie den Menschen in Myanmar geholfen werd
 en kann.\n\nDie Teilnahme ist kostenlos und ohne Voranmeldung möglich.\n\n\
 n\n
LOCATION:Domforum Köln
DTSTAMP:20230120T135716Z
DTSTART:20230129T103000Z
DTEND:20230129T123000Z
END:VEVENT
END:VCALENDAR