BEGIN:VCALENDAR
VERSION:2.0
PRODID:https://github.com/derhansen/sf_event_mgt
METHOD:PUBLISH
BEGIN:VEVENT
UID:10-737@www.asienhaus.de
CLASS: PUBLIC
SUMMARY:Solidarity with Timor-Leste struggle for self-determination
DESCRIPTION:International Workshop - Solidarity with Timor-Leste struggle f
 or self-determination: actors, institutions, contexts\n\nMay 16 to 19, 2022
 , Museu do Oriente (in-person) & Zoom (online).\n\nPLEASE REGISTER AS SOON 
 AS POSSIBLE SO THAT WE MAY PROCEED TO FINALISE THE 4 DAYS’ WORK PROGRAMME R
 egistration is free but mandatory.\n\nRegister Here
LOCATION:Lissabon & Online
DTSTAMP:20220504T092617Z
DTSTART:20220516T070000Z
DTEND:20220519T180000Z
END:VEVENT
END:VCALENDAR