BEGIN:VCALENDAR
VERSION:2.0
PRODID:https://github.com/derhansen/sf_event_mgt
METHOD:PUBLISH
BEGIN:VEVENT
UID:103-737@www.asienhaus.de
CLASS: PUBLIC
SUMMARY:Sozial-ökologische Transformation global denken: Das Beispiel Palmöl
DESCRIPTION:In Indonesien entsteht gerade eine neue Art von Allianz – zwisc
 hen Arbeiter:innen, Gewerkschaften und Umweltaktivist:innen – die die Palmö
 lindustrie transformieren möchte. Mit einer sogenannten "Just Transition"-S
 trategie wollen sie weg von den industriellen Monokulturen und hin zu eine 
 sozial gerechten und ökologisch vertretbaren Produktion. Just Transition ge
 ht von der Prämisse aus, dass Arbeiter:innen, wenn sie sich kollektiv organ
 isieren, die Macht haben, notwendige Veränderungen durchzusetzen.\n\nAber w
 arum sollten sich Arbeiter:innen für die Umwelt interessieren? Wie hängen ö
 kologische und soziale Fragen in der Palmölindustrie zusammen? Wie könnte e
 ine andere Art der Palmölproduktion aussehen? Wie könnte eine transnational
 e Solidarität, z.B. mit dem Lieferkettengesetz, diese Arbeit unterstützen?\
 n\nDiese Fragen wollen wir mit unseren Gästen aus Indonesien diskutieren: \
 n\n 	Hotler P.  Sitorus (Zidane) von Sawit Watch 	Damar Panca Mulya (Oncom)
  von der Gewerkschaftskonföderation KPBI (Konfederasi Persatuan Buruh Indon
 esia) \n\nEine Veranstaltung der Abteilung für Südostasienwissenschaft der 
 Universität Bonn in Kooperation mit Watch Indonesia! und der Stiftung Asien
 haus. 
LOCATION:Abteilung für Südostasienwissenschaft
DTSTAMP:20251126T074837Z
DTSTART:20251208T170000Z
DTEND:20251208T190000Z
END:VEVENT
END:VCALENDAR