BEGIN:VCALENDAR
VERSION:2.0
PRODID:https://github.com/derhansen/sf_event_mgt
METHOD:PUBLISH
BEGIN:VEVENT
UID:51-737@www.asienhaus.de
CLASS: PUBLIC
SUMMARY:Staatenlos, rechtlos, hoffnungslos?
DESCRIPTION:Verweigerte Zugehörigkeit durch verordnete Staatenlosigkeit am 
 Beispiel der Rohingya in Myanmar und von Muslimen im nordostindischen Assam
 \n\nWeltweit sind Millionen Menschen staatenlos. Sie haben keine Staatsange
 hörigkeit, keine Rechte und soziale Teilhabe. Die Gesundheitsversorgung, Sc
 hulbesuche oder der Bezug von Unterstützung für das Überleben sind deutlich
  erschwert, auch grenzüberschreitende Reisen, der Erwerb von Eigentum oder 
 eine Heirat. Und immer droht das Scheitern, mit dem Marginalisierung und Di
 skriminierung einhergehen.\n\nDas zeigt das Beispiel der Rohingya aus Myanm
 ar, deren Geschichte von Gewalt, Vertreibung, Flucht und ab 1982 von staatl
 ich organisierter Rechtlosigkeit geprägt ist. Auch in Indiens Nordosten wur
 den bis zu zwei Millionen Muslime mutmaßlich wegen ihrer Religion um ihre S
 taatsbürgerschaft betrogen. Was sind Ursachen und Folgen von Staatenlosigke
 it? Wie sieht der Alltag der Betroffenen aus? Welche Perspektiven und Forde
 rungen haben sie?\n\nDiskussion mit:\n\n 	Ambia Perveen, Vorsitzende Europe
 an Rohingya Council 	Theo Rathgeber, Adivasi Koordination Deutschland/Zeits
 chrift Südasien 	Christiana Bukalo, Vorsitzende Statefree e.V. 	Moderation:
  Sven Hansen, Asien-Redakteur der taz/Han Sens Asientalk \n\nDie Veranstalt
 ung findet am 14. November 2023 um 19 Uhr in der taz Kantine statt und wird
  parallel dazu bei YouTube (www.taz.de/talk) gestreamt. Der Eintritt ist fr
 ei, bei persönlicher Teilnahme in der Kantine wird hier um Anmeldung gebete
 n.\n\nBei der Veranstaltung handelt es sich um einen taz Talk in Kooperatio
 n mit Han Sen's Asientalk, der Stiftung Asienhaus und dem Südasienbüro Bonn
 .\n\nDie Veranstaltung wird mit Mitteln von Brot für die Welt gefördert.\n\
 n\n\n\n\n\n\n
LOCATION:taz Kantine
DTSTAMP:20231025T104520Z
DTSTART:20231114T180000Z
DTEND:20231114T200000Z
END:VEVENT
END:VCALENDAR