BEGIN:VCALENDAR
VERSION:2.0
PRODID:https://github.com/derhansen/sf_event_mgt
METHOD:PUBLISH
BEGIN:VEVENT
UID:8-737@www.asienhaus.de
CLASS: PUBLIC
SUMMARY:Stiftung Asienhaus asks Chinese Civil Society: What is "High-Quality BRI"?
DESCRIPTION:The term 'High-Quality Belt and Road Cooperation' or 'High-Qual
 ity Development of the BRI', chin. 高质量共建一带一路 or 一带一路高质量发展, plays a central 
 role in Chinese government documents and plans for the development of the B
 elt and Road Initiative up to 2025. However, what does the term actually me
 an and what does it entail for civil society organsations in BRI host count
 ries?\n\nThe meeting of the Advisory Council of the Belt and Road Forum in 
 2021 as well as recent government documents on Chinese overseas investments
  have shown that Chinese BRI stakeholders have encountered a variety of cha
 llenges when 'Going Out', chin. 走出去. Does the term 'High-Quality BRI' allow
  for a critical space do address these challenges or is it a label to forec
 lose reputational damage for Chinese BRI stakeholders?\n\nDuring this 60 mi
 nute open discussion event the China Programme of Stifung Asienhaus invites
  Chinese civil society organisations to talk about their understanding of '
 High-Quality BRI'. Huang Zhong, specialist in Business and Human Rights and
  Chinese Overseas Investment, and Yue Jinfei, Social Resources Institute (S
 RI), are going to decode the official Chinese terminology through a Chinese
  civil society perspective and explain how 'High-Quality BRI' is related to
  civil society work on the ground.\n\nFurthermore, the China Programme of S
 tiftung Asienhaus would like to foster the exchange between Chinese and Sou
 theast Asian civil society organisations on the environmental and social im
 plications of BRI projects.\n\nThe event will be held in English.\n\nRegist
 er
LOCATION:Stiftung Asienhaus und Online
DTSTAMP:20220221T100931Z
DTSTART:20220222T080000Z
DTEND:20220125T090000Z
END:VEVENT
END:VCALENDAR