BEGIN:VCALENDAR
VERSION:2.0
PRODID:https://github.com/derhansen/sf_event_mgt
METHOD:PUBLISH
BEGIN:VEVENT
UID:50-737@www.asienhaus.de
CLASS: PUBLIC
SUMMARY:#TalkAboutPapua: Indonesia's new Criminal Code – Impacts on Conflict and Conflict Resolution in Papua
DESCRIPTION:On 6th December 2022 the Indonesian Parliament passed a new Cri
 minal Code. It contains a number of provisions that put civil liberties at 
 considerable risk and seriously violate international human rights law and 
 standards. In today's event of the series #TalkAboutPapua our guest Andreas
  Harsono, seasoned researcher at Human Rights Watch Indonesia and long-time
  observer of Papuan affairs, will shed light on the anticipated implication
 s regarding the conflict in and about Papua once the law is fully implement
 ed.\n\nTalk with Andreas Harsono (Human Rights Watch).\n\n#TalkAboutPapua i
 s a series of events organised by Westpapua-Netzwerk, Stiftung Asienhaus an
 d Watch Indonesia!\n\n\n\n
LOCATION:Berlin Global Village
DTSTAMP:20231025T095812Z
DTSTART:20230911T163000Z
DTEND:20230911T173000Z
END:VEVENT
END:VCALENDAR