BEGIN:VCALENDAR
VERSION:2.0
PRODID:https://github.com/derhansen/sf_event_mgt
METHOD:PUBLISH
BEGIN:VEVENT
UID:39-737@www.asienhaus.de
CLASS: PUBLIC
SUMMARY:Diskussionsrunde mit der philippinischen Klimaaktivistin Mitzi Tan
DESCRIPTION:Diskussionsrunde mit der philippinischen Klimaaktivistin Mitzi 
 Tan von Youth Advocates for Climate Action Philippines (YACAP) zu Klimawand
 el, Klimagerechtigkeit, Erfolgen, Herausforderungen, Frustrationen und Hoff
 nungen im Klimaaktivismus unter der Regierung von Präsident Ferdinand Marco
 s Jr. und auf internationaler Ebene.\n\nDas philippinenbüro und Fridays for
  Future Köln laden gemeinsam ins Asienhaus ein. Die Diskussion wird in engl
 ischer Sprache sein.\n\nDie Veranstaltung findet hybrid statt. \n\nZur pers
 önlichen Teilnahme im Asienhaus, schreiben Sie bitte eine E-Mail mit Ihrem 
 Namen und ggfs. Organisation an anmeldung@philippinenbuero.de\n\nZur Online
 -Teilnahme über Zoom bitte vorab anmelden unter: https://us02web.zoom.us/me
 eting/register/tZMldeuqqj0jGtAQSJVZHtaA7ck-unkTKaHb\n\nDie Teilnahme ist ko
 stenlos.\n\n-------------------------------------------------------ENGLISH-
 -------------------------------------------------------------------\n\nDisc
 ussion with the Philippine climate activist Mitzi Tan\n\nDiscussion with th
 e Philippine climate activist Mitzi Tan of Youth Advocates for Climate Acti
 on Philippines (YACAP) about climate change, climate justice, successes, ch
 allenges, frustrations and hopes in climate activism under the government o
 f President Ferdinand Marcos Jr. and in the international arena.\n\nTogethe
 r, the philippinenbüro and Fridays for Future Köln invite you to a discussi
 on in the Asia House. The discussion will be in English.\n\nYou can also at
 tend online via zoom.\n\nIn case you would like to attend via zoom, please 
 register here: https://us02web.zoom.us/meeting/register/tZMldeuqqj0jGtAQSJV
 ZHtaA7ck-unkTKaHb\n\nFor attendance in person, please send an email with yo
 ur name and if applicable with your organization to anmeldung@philippinenbu
 ero.de\n\nThe attendance is free of charge.\n\n 
LOCATION:Stiftung Asienhaus
DTSTAMP:20230324T153223Z
DTSTART:20230331T163000Z
DTEND:20230331T180000Z
END:VEVENT
END:VCALENDAR