BEGIN:VCALENDAR
VERSION:2.0
PRODID:https://github.com/derhansen/sf_event_mgt
METHOD:PUBLISH
BEGIN:VEVENT
UID:37-737@www.asienhaus.de
CLASS: PUBLIC
SUMMARY:11. Asientag – Gemeinsam durch die Klimakrise?
DESCRIPTION:Gemeinsam durch die Klimakrise?\n\nDie Welt ächzt und boomt, es
  wird übermäßig investiert, konsumiert, gereist, gerodet, erhitzt, weggesch
 missen, versiegelt, produziert… All dies befeuert den Klimawandel – doch zu
  welchem Preis für Natur und Mensch?\n\nDer menschengemachte Klimawandel is
 t überall spürbar und trifft viele Länder Asiens besonders hart. So bedrohe
 n steigende Meeresspiegel, Dürren, Hitzewellen, Überschwemmungen, Stürme un
 d Erdrutsche die einzigartigen Ökosysteme Asiens, mit desaströsen Auswirkun
 gen für die menschliche Gesundheit, Ernährungssicherheit und Lebensgrundlag
 en. Besonders betroffen: Kleinbäuer:innen, ethnische Minderheiten, Indigene
  und marginalisierte Gruppen.\n\nDas Festhalten am Status Quo, einer mutlos
 en Klimapolitik und das Herauszögern der Energiewende, wird den Klimawandel
  nicht bremsen. Wie können insbesondere die Verursachenden in die Verantwor
 tung genommen werden? Kann das 1,5-Grad-Ziel eingehalten werden? Wie möchte
  und kann die Menschheit zukünftig leben?\n\nWeltweit setzt sich die Zivilg
 esellschaft lautstark für eine wirkungsvolle Klimapolitik sowie gegen Umwel
 tzerstörung, emissionsfördernde Großprojekte, ein „weiter so“ zur Stromgewi
 nnung durch fossile Energiequellen und Atomkraft ein.\n\nDie zivilgesellsch
 aftlichen Klimabewegungen Asiens sind facettenreich. Sie binden Individuen 
 und Gruppen ein, denen die Klimapolitik ihrer Regierung nicht weit genug ge
 ht. Proteste gegen Staudammprojekte, landwirtschaftliche Monokulturen oder 
 den Abbau von seltenen Erden und Baustoffen sind keine neuen Phänomene– vie
 lmehr sind die Vielfalt, Digitalisierung, Vehemenz und deren Vernetzung neu
 . In einem zunehmend autoritären politischen Umfeld verschiedener Länder As
 iens sind Aktive in der Klima- und Umweltbewegung diversen Risiken ausgeset
 zt.\n\nAuf dem 11. Asientag schauen wir konkret: wie gehen vom Klimawandel 
 betroffene Menschen in Asien damit um und in welcher Verantwortung stehen w
 ir?\n\nWir laden Sie/Euch herzlich in die Alte Feuerwache ein und freuen un
 s auf spannende Diskussionen.\n\nMonika Schlicher (Stiftung Asienhaus), Mir
 jam Overhoff (philippinenbüro), Nataly Jung-Hwa Han (Korea Verband)\n\nWann
  & Wo?\n\n 	22. April 2023,10:00 – 17:15 Uhr, Alte Feuerwache, Melchiorstra
 ße 3, 50670 Köln 	Markt der Möglichkeiten: Babaylan, Deutsch-Indonesische G
 esellschaft Köln, Online-Magazin südostasien, German Solidarity with Myanma
 r Democracy, Ozeanien-Dialog, Fridays for Future Köln, Bettina-Kattermann-S
 tiftung, Kasama – Klimasolidarität Philippinen. 	Die Räume für die einzelne
 n Workshops werden am Tag selbst vor Ort bekanntgegeben. 	Bei Fragen wenden
  Sie sich bitte per E-Mail an: asientag@asienhaus.de oder per Telefon unter
  +49-221-71612113 an die Stiftung Asienhaus. \n\n \n\nAnmeldung\n\nDie Anme
 ldung für den 11. Asientag erfolgt über ein Formular auf unserer Webseite. 
 Oder nutzen Sie den QR-Code bzw. Link auf diesem Flyer. Die Anmeldung ist b
 is zum 20. April 2023 möglich.\n\nTeilnahmebeitrag (inklusive Mittagessen):
  12 Euro / 7 Euro ermäßigt, vor Ort zu entrichten\n\n \n\nProgramm\n\n9:15 
 Uhr Anmeldung\n\n10:00 Uhr Begrüßung und Eröffnung\n\nKlimagerechtigkeit: W
 as geht uns das an?\n\nAnika Schröder (MISEREOR)\n\nKlimapolitik: Wie solid
 arisch sind wir?\n\nSven Harmeling (CARE Deutschland)\n\nThe life we choose
 : Climate justice activism in the Philippines \n\nMitzi Jonelle Tan (YACAP)
 \n\n\n\n11:15 Uhr Vorträge und Diskussionen Teil I\n\nLoss and Damage made 
 in Germany? Kohle, das 1,5-Grad-Ziel und transnationale Proteste \n\nDeutsc
 hland strebt eine Vorreiterrolle im Kohleausstieg an, stellt jedoch klimapo
 litische Forderungen hinter die Interessen der Industrie. Wie steht es um d
 ie Klimaverantwortung Deutschlands? Wie versucht China seine Klimaziele zu 
 erreichen und wie sind diese mit den deutsch-europäischen Strategien verbun
 den? Während das 1,5-Grad-Ziel unwahrscheinlicher wird, vernetzen sich zivi
 lgesellschaftliche Proteste weltweit. Eine Paneldiskussion.\n\nAmadeo Kaus 
 (Fridays for Future Köln), Leonie Suna-Kiefer (Stiftung Asienhaus), Moderat
 ion: Hannah Wolf (philippinenbüro)\n\n\n\nKlimagerechte Transformation: all
 e in einem Boot?\n\nDer globale Norden braucht einen Systemwandel: wir müss
 en unseren Alltag und Wirtschaftsweise verändern, damit Treibhausgase reduz
 iert werden. Doch was bedeutet „Transformation“ für den Globalen Süden? Wie
  kann Transformation sozial gerecht gestaltet werden, auch für vulnerable G
 ruppen? Asiens wachsende Städte schaffen besonders große Herausforderungen,
  was ist für eine Anpassung an den Klimawandel nötig, wo liegen Chancen?\n\
 nAnika Schröder (MISEREOR), Nadine Willner (GermanZero), Max Stille (NETZ),
  Moderation: Mirjam Overhoff (philippinenbüro), Raphael Göpel (Stiftung Asi
 enhaus)\n\n\n\nKüstengemeinschaften in der Klimakrise\n\nDie Auswirkungen d
 es marinen Klimawandels sind in Südostasien sowie im Pazifik gravierend. Kü
 stengemeinden, die abhängig sind von einem intakten Ökosystem Meer und über
  wenige Ressourcen für notwendige Anpassungen verfügen, sind in ihrer Exist
 enz bedroht. Was bedeutet das für die Region, wie gehen Gemeinden in Timor-
 Leste mit den Herausforderungen um?\n\nJan Pingel (Ozeanien-Dialog), Octavi
 o de Araujo (Berater für Klimawandel und nachhaltige Bewirtschaftung), Mode
 ration: Monika Schlicher (Stiftung Asienhaus)\n\n\n\nAuswirkungen des Klima
 wandels auf die Verwirklichung von Menschenrechten \n\nDie Klimazerstörung 
 führt weltweit zu zahlreichen Menschenrechtsverletzungen, so sind in Asien 
 Menschenrechte auf Nahrung, Wasser und Gesundheit massiv bedroht. Diejenige
 n, die sich für sie einsetzen, sind zunehmend gefährdet. Anhand von Beispie
 len aus Nepal und den Philippinen diskutieren wir mit Betroffenen wie ihre 
 Rechte geschützt und gewährleistet werden können.\n\nSprache: Englisch\n\nV
 ennel Chenfoo (Defend Mindanao), Sabine Pabst (FIAN International), Videobo
 tschaft von FIAN Nepal, Moderation: Astrud Beringer (Aktionsbündnis Mensche
 nrechte – Philippinen)\n\n\n\n12:45 Uhr Mittagspause: Indonesisches Lunch u
 nd Zeit zum Netzwerken\n\n\n\n14:15 Uhr Vorträge und Diskussionen Teil II\n
 \nSolar, Windstrom & Co.  – Wie nachhaltig sind sie?\n\n„Erneuerbare Energi
 en“ sind nicht unumstritten: Hohe Kosten, Umweltschäden, Landraub und die Z
 erstörung von Biodiversität spielen in Asien wie auch in Deutschland eine g
 roße Rolle. Welche (nachhaltigen) Optionen gibt es, wer finanziert sie? Der
  Workshop bietet eine interaktive Auseinandersetzung mit diversen Themen- u
 nd Länderperspektiven aus Indien, China, Indonesien, Philippinen und Korea.
 \n\nSprache: Englisch/Deutsch\n\nCynthia Deduro (Dagsaw), Mibi Ete (Akdemik
 erin), Felix Anderl (Uni Marburg), Moderation: Joanna Klabisch (Stiftung As
 ienhaus) und Olga Basnet (North East India Forum)\n\n\n\nKampf um Klimagere
 chtigkeit: Kendeng und der Widerstand gegen HeidelbergCement\n\nAm Kendeng-
 Gebirge auf Java will der Konzern HeidelbergCement eine Zementfabrik errich
 ten. Das Vorhaben mit Abbau des Karstgebirges gefährdet das Ökosystem und d
 ie Lebensgrundlagen Tausender. Die Bevölkerung wehrt sich seit Jahren, auch
  mit transnationaler Vernetzung. Welche Klimaungerechtigkeiten beinhaltet d
 er Fall, wie kann Gerechtigkeit erstritten werden?\n\nYvonne Kunz (KITLV), 
 Markus Dufner (Dachverband Kritische Aktionärinnen und Aktionäre), Janty Ji
 e (Watch Indonesia!), Moderation: Raphael Göpel (Stiftung Asienhaus)\n\n\n\
 nVeganismus als zivilgesellschaftliche Initiative für eine nachhaltige Lebe
 nsweise in Südkorea\n\nSüdkorea hat eine lange Tradition für fleischhaltige
  Küche. Da frisches Gemüse und alternative Produkte teuer sein können, stel
 lt der Verzicht auf tierische häufig einen Luxus dar. Um den hohen Fleischk
 onsum entgegenzuwirken, gründen Städte und Gemeinden kooperative Genossensc
 haften, Geschäfte und Bauernhöfe, die eine vegane Lebensweise fördern solle
 n.\n\nSprache: Englisch\n\nMiyeon Choi (Filmemacherin) / Moderation: Anna G
 rimminger (Mitglied im Vorstand Stiftung Asienhaus)\n\n\n\nFilm: Myanmar’s 
 Forgotten Revolution\n\nSeit zwei Jahren setzen die Menschen Myanmars sich 
 gegen die versuchte Machtübernahme des Militärs zur Wehr. Doch ihr Widersta
 nd findet immer weniger Platz in öffentlichen Diskursen. Diese in Großbrita
 nnien produzierte Dokumentation möchte das ändern. Der Film wird auf Englis
 ch gezeigt, und anschließend gemeinsam diskutiert.\n\nSprache: Englisch/Deu
 tsch\n\nNyein Chan May (German Solidarity with Myanmar Democracy), Minn Tin
 maung (Produzent), Moderation: Majid Lenz (Stiftung Asienhaus)\n\n\n\n15:45
  Uhr Kaffee/Tee-Pause mit Köstlichkeiten aus Indonesien\n\n\n\n16:15 Uhr Ab
 schlussveranstaltung\n\nGemeinsam in der Klimakrise: Verantwortung und Visi
 onen \n\nEine solidarische globale Klimabewegung ist der einzige Ausweg aus
  der Klimakrise. Doch was können wir hier im globalen Norden tun, um zivilg
 esellschaftliche Akteur:innen in Asien zu unterstützen? Was erwarten sie vo
 n uns? Zum Abschluss des Asientages setzen wir uns mit diesen Fragen ausein
 ander. Dabei kommen asiatische Akteur:innen zu Wort und wir suchen nach gem
 einsamen Ansatzpunkten zivilgesellschaftlichen Engagements.\n\nModeration: 
 Jan Pingel (Ozeanien-Dialog und Mitglied im Kuratorium Stiftung Asienhaus),
  Mary Montemayor (philippinenbüro)\n\n\n\nDie Tagesveranstaltung wird von d
 er Stiftung Asienhaus, dem philippinenbüro e.V. und dem Korea Verband organ
 isiert. \n\n\n\nEINLADUNG zur Ausstellung: Kunst fürs Klima\n\nWerkstattges
 präch mit dem Kollektiv Taring Padi\n\nDie Arbeiten des 1998 gegründeten Kü
 nstler:innenkollektivs Taring Padi entstammen der Protestkultur Indonesiens
  und prangern politische, soziale und ökologische Missstände an.\n\nAktuell
  ist der Klimawandel eines der zentralen Themen ihrer Arbeit. Hierzu werden
  wayang kardus (Pappkartonfiguren) und Holzschnitte gezeigt, die eine Symbi
 ose zwischen traditioneller Kunst und zeitgenössischem Protest darstellen.\
 n\nIm Rahmen der Ausstellung laden drei Künstler des Kollektivs dazu ein, m
 iteinander ins Gespräch zu kommen und zu diskutieren, wie zeitgenössische K
 unst als Mittel dient, um ein politisches Bewusstsein für Klima- und Umwelt
 gerechtigkeit zu schaffen. Dabei können T-Shirts und Poster gegen eine Spen
 de von 15 Euro mit Holzschnittmotiven bedruckt werden. Ein T-Shirt in helle
 n Farben ist mitzubringen.\n\nWerkstattgespräch mit Sri Maryanto (Antok), Y
 unanto Setio Broto (Yunan) und Dhomas Yoedistiro Sugianto (Dhomas "el kampr
 ettoz") von Taring Padi\n\nWann: Sonntag, 23. April 2023, 14:00 - 19:00 Uhr
 \n\nWo:  Galerie Smend, Mainzer Straße 31, 50678 Köln\n\nEine Veranstaltung
  von Stiftung Asienhaus und Deutsch-Indonesische Gesellschaft Köln
LOCATION:Alte Feuerwache, Köln
DTSTAMP:20230419T132519Z
DTSTART:20230422T080000Z
DTEND:20230422T150000Z
END:VEVENT
END:VCALENDAR