BEGIN:VCALENDAR
VERSION:2.0
PRODID:https://github.com/derhansen/sf_event_mgt
METHOD:PUBLISH
BEGIN:VEVENT
UID:98-737@www.asienhaus.de
CLASS: PUBLIC
SUMMARY:The Paradox of Indonesia’s Green Capital: A Critical Examination
DESCRIPTION:The Paradox of a Green Capital: A Critical Examination of Indon
 esia’s Mega Development Plans in IKN (Nusantara Capital City)\n\nDr. Rakhma
 t Hidayat’s talk examines the contrast between the ideals of green developm
 ent and Indonesia’s large-scale urbanization, critiquing how mega-projects,
  even with sustainability goals, often revert to growth-first practices ove
 r ecological integrity.\n\nDr. Rakhmat Hidayat is an Associate Professor at
  the Department of Sociology, State University of Jakarta, Indonesia. At th
 e moment he is also a Visiting Fellow at the Department of Southeast Asian 
 Studies, University of Bonn, Germany.\n\nThe Talk is part of the Lecture Se
 ries "Socio-Environmental Conflicts in Southeast Asia". The Lecture Series 
 is organised by Abteilung für Südostasienwissenschaft der Universität Bonn,
  Stiftung Asienhaus and the philippinenbüro.\n\nEveryone interested is warm
 ly invited.
LOCATION:Abteilung für Südostasienwissenschaft
DTSTAMP:20251114T104314Z
DTSTART:20251112T111500Z
DTEND:20251112T124500Z
END:VEVENT
END:VCALENDAR