BEGIN:VCALENDAR
VERSION:2.0
PRODID:https://github.com/derhansen/sf_event_mgt
METHOD:PUBLISH
BEGIN:VEVENT
UID:80-737@www.asienhaus.de
CLASS: PUBLIC
SUMMARY:Vortrag Agnes Khoo: Frauen im antijapanischen und antikolonialen Widerstand
DESCRIPTION:Mit: Agnes Khoo (Malaysia, Singapur, Niederlande) Eintritt 4,50
  | 2 Euro (ermäßigt),\n\nAnmeldungen über: museenkoeln.de/ns-dokumentations
 zentrum/Die-Dritte-Welt-im-Zweiten-Weltkrieg\n\nDie Soziologin Agnes Khoo s
 tammt aus Singapur, hat familiäre Beziehungen zu Malaysia, die niederländis
 che Staatsbürgerschaft und lehrt in China. 2004 publizierte sie ein Oral-Hi
 story-Buch über Frauen aus Thailand, Malaysia und Singapur, die in der anti
 kolonialen Guerilla gekämpft haben. Das Buch erschien bis 2017 in mehreren 
 Auflagen in Chinesisch und Englisch. Es ist die bislang einzige Monografie 
 über den Widerstand von Frauen gegen den britischen und japanischen Imperia
 lismus in Malaysia und Singapur und dokumentiert Ihre vergessenen Opfer im 
 antikolonialen Widerstand über mehr als 50 Jahre. Zudem hat Agnes Khoo ein 
 Buch über asiatische Freiwillige übersetzt, die im Spanischen Bürgerkrieg i
 n den Internationalen Brigaden gekämpft haben. Derzeit übersetzt sie die Me
 moiren von Lim Hong Bee (Born Into War) über Folgen des Zweiten Weltkriegs 
 für Malaysia und Singapur. In Ihrem Vortrag wird sie auf die Rolle von Frau
 en aus Asien im weltweiten Kampf gegen Faschismus eingehen.\n\nBei iz3w gib
 t Agnes Khoo einen ersten Einblick.\n\nEine Veranstaltung vom NS-Dokumentat
 ionszentrum Köln zusammen mit: Verein für antifaschistische Kultur (Götting
 en); Stiftung Asienhaus (Köln); Friedensbildungswerk Köln; Philippine women
 ‘s Forum Germany e.V. / Babaylan Europe (Köln); Kölner Frauengeschichtsvere
 in; philippinenbüro e.V. (Köln)\n\nDer Vortrag ist eine Begleitveranstaltun
 g zur Ausstellung „Die Dritte Welt im Zweiten Weltkrieg“, die vom 8. März b
 is 1. Juni 2025 im NS-Dokumentationszentrum der Stadt Köln zu sehen ist.
LOCATION:NS-Dok
DTSTAMP:20250807T195941Z
DTSTART:20250513T170000Z
DTEND:20250513T190000Z
END:VEVENT
END:VCALENDAR