BEGIN:VCALENDAR
VERSION:2.0
PRODID:https://github.com/derhansen/sf_event_mgt
METHOD:PUBLISH
BEGIN:VEVENT
UID:47-737@www.asienhaus.de
CLASS: PUBLIC
SUMMARY:Wer macht mein T-Shirt? Arbeitsbedingungen in der Textilindustrie
DESCRIPTION:Die Textilindustrie ist in vielen asiatischen Ländern ein wicht
 iger Wirtschaftszweig. Vor allem Frauen arbeiten für niedrige Löhne in Fabr
 iken, wo ein Großteil der in Deutschland verkauften Mode produziert wird. D
 as Herstellen von Kleidung beruht oft auf prekären Arbeitsbedingungen und s
 chlechtem Arbeitsschutz, was spätestens seit dem Fabrikeinsturz des Rana Pl
 aza in Bangladesch auch in Europa bekannt wurde. Textilbündnisse, Gewerksch
 aften und Politik forderten daher eine Verbesserung der Produktionsbedingun
 gen und mehr Sorgfaltspflichten im Sektor.\n\nKonnte die Branche in den let
 zten Jahren nachhaltiger und sozialer werden? Was muss sich weiter ändern? 
 Welche Möglichkeiten ergeben sich durch das neue Lieferkettengesetz? Und wa
 s können Arbeiter:innenbewegungen in Ländern bewirken, wo sie oft Repressal
 ien ausgesetzt und Gewerkschaften stark politisiert sind?\n\nMit\n\n 	Lisa 
 Carl (FEMNET) 	Jiska Gojowczyk (Südwind) 	Michaela Doutch (Abteilung für Sü
 dostasienwissenschaft, Universität Bonn) 	Moderation: Raphael Göpel (Stiftu
 ng Asienhaus) \n\nEine Kooperation der Stiftung Asienhaus mit der Melanchth
 on-Akademie.\n\nDer Eintritt ist frei. \n\nGefördert von Engagement Global 
 mit Mitteln des BMZ und von Misereor.\n\n
LOCATION:Melanchthon-Akademie
DTSTAMP:20231030T141434Z
DTSTART:20231123T183000Z
DTEND:20231123T200000Z
END:VEVENT
END:VCALENDAR