BEGIN:VCALENDAR
VERSION:2.0
PRODID:https://github.com/derhansen/sf_event_mgt
METHOD:PUBLISH
BEGIN:VEVENT
UID:97-737@www.asienhaus.de
CLASS: PUBLIC
SUMMARY:Westpapua: Wie Food Estates & "Grüne" Energie Lebensgrundlagen zerstören
DESCRIPTION:\n\nWir laden Sie herzlich zu unserem nächsten #TalkAboutPapua 
 ein.\n\nGemeinsam mit Gästen aus Westpapua diskutieren wir zum Thema „Zerst
 örung im Namen der Entwicklung: Food Estates und „grüne“ Energie in Westpap
 ua.“\n\nDie indonesische Regierung plant in Westpapua auf drei Millionen He
 ktar Land Megaplantagen für den Anbau von Reis und Zuckerrohr, die der Ernä
 hrungssicherung und der Produktion von „grüner“ Energie dienen sollen. Im J
 ahr 2024 trafen militärische Einheiten und schwere Maschinen in der Region 
 ein, um mit der Rodung von Wäldern und der Trockenlegung von Feuchtgebieten
  zu beginnen.\n\nDas Projekt geht mit gravierenden Menschenrechts- und Umwe
 ltverletzungen einher – darunter Landraub und die fehlende Zustimmung indig
 ener Gemeinschaften. Die zunehmende Militarisierung schürt Angst und Unsich
 erheit bei den betroffenen Gemeinschaften. Zudem bedroht das Vorhaben biodi
 versitätsreiche Wälder und die Lebensgrundlagen indigener Gruppen.\n\nÄhnli
 che Megaprojekte – auf Borneo und zuletzt auch in Merauke – sind gescheiter
 t und hinterließen zerstörte Landschaften. Auch das aktuelle Projekt gilt b
 ereits jetzt als zum Scheitern verurteilt.\n\nGemeinsam schauen wir den Dok
 umentarfilm “Papuan Skies: On the frontlines of Indonesia's ‘food estate’ p
 roject” von The Gecko Project und sprechen anschließend mit zwei Gästen aus
  Westpapua über die Hintergründe, Folgen und Widerstände rund um Indonesien
 s Megaprojekte.\n\nDie Veranstaltung findet auf Englisch statt. \n\nKommen 
 Sie vorbei und lernen Sie mehr über Westpapua!\n\nWann: 23. Oktober, 18 Uhr
  Ort: Berlin Global Village, Am Sudhaus 2, 12053 Berlin\n\n#TalkAboutPapua 
 ist eine Veranstaltungsreihe von der Stiftung Asienhaus, dem Westpapua-Netz
 werk und Watch Indonesia!
LOCATION:Berlin Global Village
DTSTAMP:20251114T104332Z
DTSTART:20251023T160000Z
DTEND:20251023T180000Z
END:VEVENT
END:VCALENDAR