BEGIN:VCALENDAR
VERSION:2.0
PRODID:https://github.com/derhansen/sf_event_mgt
METHOD:PUBLISH
BEGIN:VEVENT
UID:32-737@www.asienhaus.de
CLASS: PUBLIC
SUMMARY:Zugehörigkeit verweigert! Staatenlosigkeit in Kambodscha und Deutschland
DESCRIPTION:Was bedeutet es für Menschen, keine Staatsbürgerschaft zu besit
 zen?  Welche rechtlichen Auswirkungen hat Staatenlosigkeit? Die Folgen für 
 die Betroffenen sind je nach Land unterschiedlich, treffen aber alle Bereic
 he des Lebens: Zugänge zu Arbeit, Gesundheitsversorgung, Sozialleistungen u
 nd Bildung sind erschwert oder unmöglich. Staatenlose können nicht an Wahle
 n teilnehmen, Reisen sind eingeschränkt, Schulbesuche für Kinder erschwert.
  \n\nOffiziell wird die Zahl von Menschen ohne Staatsangehörigkeit weltweit
  auf mindestens 15 Millionen (laut Institute on Statelessness and Inclusion
 ) geschätzt, mehr als die Hälfte Kinder.  Aber wie wird ein Mensch staatenl
 os, was sind die Ursachen, was sind die Folgen?\n\nDie Online-Veranstaltung
  gibt eine Einführung in das Thema, zeigt die Situation von Staatenlosen in
  Deutschland und Kambodscha auf, und diskutiert wie eine Inklusion von Betr
 offenen erreicht werden kann.\n\nEs sprechen: Dr. Christoph Sperfeldt, Macq
 uarie University, Sydney Christiana Bukalo (Statefree e.V.) Denis Neselovsk
 yi (Statefree e.V.) Moderation: Raphael Göpel (Stiftung Asienhaus) und Ali 
 Al-Nasani (Raoul-Wallenberg-Institut).\n\nDie Veranstaltung findet online v
 ia Zoom statt. Bitte melden Sie sich vorab hier an.\n\nEine gemeinsame Vera
 nstaltung des Raoul-Wallenberg-Institut für Menschenrechte und Humanitäres 
 Recht Kambodscha, Statefree e.V. und der Stiftung Asienhaus.
LOCATION:Stiftung Asienhaus und Online
DTSTAMP:20230117T105445Z
DTSTART:20230119T100000Z
DTEND:20230119T110000Z
END:VEVENT
END:VCALENDAR